{"text_format":"1","workbook":"xlsx","n_sheets":2,"sheets":["Data","Cup Draw"],"not_rendered":{"charts":0,"images":0,"macros":1,"external_links":0,"defined_names":0,"comments":0,"pivot_tables":0},"unopened":[],"bounds":{"document_bytes":16777216,"sheet_cells":100000,"rows_first":2000,"rows_last":500,"rows_between":2000,"halvings":0,"cell_chars":16384,"cell_head_chars":4096},"cells_cut":0,"cells_raw":0,"read":"whole","date_system":"1900"}

{"sheet":"Data","index":0,"n_rows":81,"n_cols":27,"rows_kept":81,"cut":false,"hidden":true,"merged":[]}
["Draw Number",null,null,"Random","Rank","1st Round","Random","Rank","2nd Round","Random","Rank","3rd Round","Random","Rank","4th Round","Random","Rank","5th Round","Random","Rank","Quarter finals","Random","Rank","Semi Finals","Random","Rank","Final"]
[1,null,null,{"$f":"RAND()","v":0.62086649910969094},{"$f":"RANK(D2,$D$2:$D$81)+COUNTIF(E$1:E1,E1)-1","v":30},"Brighton",{"$f":"RAND()","v":0.20498179542561568},{"$f":"RANK(G2,$G$2:$G$41)+COUNTIF(H$1:H1,H1)-1","v":34},{"$f":"IF('Cup Draw'!B2=\"\",\"\",IF('Cup Draw'!B2>'Cup Draw'!D2,'Cup Draw'!A2,IF('Cup Draw'!B2<'Cup Draw'!D2,'Cup Draw'!E2)))","v":""},{"$f":"RAND()","v":0.22800441092515866},{"$f":"RANK(J2,$J$2:$J$65)+COUNTIF(K$1:K1,K1)-1","v":52},{"$f":"IF('Cup Draw'!H2=\"\",\"\",IF('Cup Draw'!H2>'Cup Draw'!J2,'Cup Draw'!G2,IF('Cup Draw'!H2<'Cup Draw'!J2,'Cup Draw'!K2)))","v":""},{"$f":"RAND()","v":0.88464565744109713},{"$f":"RANK(M2,$M$2:$M$33)+COUNTIF(N$1:N1,N1)-1","v":3},{"$f":"IF('Cup Draw'!N2=\"\",\"\",IF('Cup Draw'!N2>'Cup Draw'!P2,'Cup Draw'!M2,IF('Cup Draw'!N2<'Cup Draw'!P2,'Cup Draw'!Q2)))","v":""},{"$f":"RAND()","v":0.20080750289646021},{"$f":"RANK(P2,$P$2:$P$17)+COUNTIF(Q$1:Q1,Q1)-1","v":13},{"$f":"IF('Cup Draw'!T2=\"\",\"\",IF('Cup Draw'!T2>'Cup Draw'!V2,'Cup Draw'!S2,IF('Cup Draw'!T2<'Cup Draw'!V2,'Cup Draw'!W2)))","v":""},{"$f":"RAND()","v":5.4021929370655197E-2},{"$f":"RANK(S2,$S$2:$S$9)+COUNTIF(T$1:T1,T1)-1","v":7},{"$f":"IF('Cup Draw'!Z2=\"\",\"\",IF('Cup Draw'!Z2>'Cup Draw'!AB2,'Cup Draw'!Y2,IF('Cup Draw'!Z2<'Cup Draw'!AB2,'Cup Draw'!AC2)))","v":""},{"$f":"RAND()","v":0.62079170565808894},{"$f":"RANK(V2,$V$2:$V$5)+COUNTIF(W$1:W1,W1)-1","v":3},{"$f":"IF('Cup Draw'!AF2=\"\",\"\",IF('Cup Draw'!AF2>'Cup Draw'!AH2,'Cup Draw'!AE2,IF('Cup Draw'!AF2<'Cup Draw'!AH2,'Cup Draw'!AI2)))","v":""},{"$f":"RAND()","v":0.32043476668428006},{"$f":"RANK(Y2,$Y$2:$Y$3)+COUNTIF(Z$1:Z1,Z1)-1","v":1},{"$f":"IF('Cup Draw'!AL2=\"\",\"\",IF('Cup Draw'!AL2>'Cup Draw'!AN2,'Cup Draw'!AK2,IF('Cup Draw'!AL2<'Cup Draw'!AN2,'Cup Draw'!AO2)))","v":""}]
[2,null,null,{"$f":"RAND()","v":0.35591279377291318},{"$f":"RANK(D3,$D$2:$D$81)+COUNTIF(E$1:E2,E2)-1","v":52},"Bournemouth",{"$f":"RAND()","v":0.21745497188577267},{"$f":"RANK(G3,$G$2:$G$41)+COUNTIF(H$1:H2,H2)-1","v":33},{"$f":"IF('Cup Draw'!B3=\"\",\"\",IF('Cup Draw'!B3>'Cup Draw'!D3,'Cup Draw'!A3,IF('Cup Draw'!B3<'Cup Draw'!D3,'Cup Draw'!E3)))","v":""},{"$f":"RAND()","v":0.72935008110919952},{"$f":"RANK(J3,$J$2:$J$65)+COUNTIF(K$1:K2,K2)-1","v":17},{"$f":"IF('Cup Draw'!H3=\"\",\"\",IF('Cup Draw'!H3>'Cup Draw'!J3,'Cup Draw'!G3,IF('Cup Draw'!H3<'Cup Draw'!J3,'Cup Draw'!K3)))","v":""},{"$f":"RAND()","v":0.90210053736166573},{"$f":"RANK(M3,$M$2:$M$33)+COUNTIF(N$1:N2,N2)-1","v":2},{"$f":"IF('Cup Draw'!N3=\"\",\"\",IF('Cup Draw'!N3>'Cup Draw'!P3,'Cup Draw'!M3,IF('Cup Draw'!N3<'Cup Draw'!P3,'Cup Draw'!Q3)))","v":""},{"$f":"RAND()","v":0.37957926759032112},{"$f":"RANK(P3,$P$2:$P$17)+COUNTIF(Q$1:Q2,Q2)-1","v":10},{"$f":"IF('Cup Draw'!T3=\"\",\"\",IF('Cup Draw'!T3>'Cup Draw'!V3,'Cup Draw'!S3,IF('Cup Draw'!T3<'Cup Draw'!V3,'Cup Draw'!W3)))","v":""},{"$f":"RAND()","v":0.25456144029723271},{"$f":"RANK(S3,$S$2:$S$9)+COUNTIF(T$1:T2,T2)-1","v":5},{"$f":"IF('Cup Draw'!Z3=\"\",\"\",IF('Cup Draw'!Z3>'Cup Draw'!AB3,'Cup Draw'!Y3,IF('Cup Draw'!Z3<'Cup Draw'!AB3,'Cup Draw'!AC3)))","v":""},{"$f":"RAND()","v":0.79998116169802025},{"$f":"RANK(V3,$V$2:$V$5)+COUNTIF(W$1:W2,W2)-1","v":2},{"$f":"IF('Cup Draw'!AF3=\"\",\"\",IF('Cup Draw'!AF3>'Cup Draw'!AH3,'Cup Draw'!AE3,IF('Cup Draw'!AF3<'Cup Draw'!AH3,'Cup Draw'!AI3)))","v":""},{"$f":"RAND()","v":1.3523019609379738E-2},{"$f":"RANK(Y3,$Y$2:$Y$3)+COUNTIF(Z$1:Z2,Z2)-1","v":2},{"$f":"IF('Cup Draw'!AL3=\"\",\"\",IF('Cup Draw'!AL3>'Cup Draw'!AN3,'Cup Draw'!AK3,IF('Cup Draw'!AL3<'Cup Draw'!AN3,'Cup Draw'!AO3)))","v":""}]
[3,null,null,0.95103944644991956,{"$f":"RANK(D4,$D$2:$D$81)+COUNTIF(E$1:E3,E3)-1","v":4},"Huddersfield",0.16341165886665643,{"$f":"RANK(G4,$G$2:$G$41)+COUNTIF(H$1:H3,H3)-1","v":36},{"$f":"IF('Cup Draw'!B4=\"\",\"\",IF('Cup Draw'!B4>'Cup Draw'!D4,'Cup Draw'!A4,IF('Cup Draw'!B4<'Cup Draw'!D4,'Cup Draw'!E4)))","v":""},0.72099636742309992,{"$f":"RANK(J4,$J$2:$J$65)+COUNTIF(K$1:K3,K3)-1","v":19},{"$f":"IF('Cup Draw'!H4=\"\",\"\",IF('Cup Draw'!H4>'Cup Draw'!J4,'Cup Draw'!G4,IF('Cup Draw'!H4<'Cup Draw'!J4,'Cup Draw'!K4)))","v":""},0.11110905918545511,{"$f":"RANK(M4,$M$2:$M$33)+COUNTIF(N$1:N3,N3)-1","v":29},{"$f":"IF('Cup Draw'!N4=\"\",\"\",IF('Cup Draw'!N4>'Cup Draw'!P4,'Cup Draw'!M4,IF('Cup Draw'!N4<'Cup Draw'!P4,'Cup Draw'!Q4)))","v":""},0.93550019855122912,{"$f":"RANK(P4,$P$2:$P$17)+COUNTIF(Q$1:Q3,Q3)-1","v":1},{"$f":"IF('Cup Draw'!T4=\"\",\"\",IF('Cup Draw'!T4>'Cup Draw'!V4,'Cup Draw'!S4,IF('Cup Draw'!T4<'Cup Draw'!V4,'Cup Draw'!W4)))","v":""},0.65372858568454129,{"$f":"RANK(S4,$S$2:$S$9)+COUNTIF(T$1:T3,T3)-1","v":3},{"$f":"IF('Cup Draw'!Z4=\"\",\"\",IF('Cup Draw'!Z4>'Cup Draw'!AB4,'Cup Draw'!Y4,IF('Cup Draw'!Z4<'Cup Draw'!AB4,'Cup Draw'!AC4)))","v":""},0.99822459703165534,{"$f":"RANK(V4,$V$2:$V$5)+COUNTIF(W$1:W3,W3)-1","v":1},{"$f":"IF('Cup Draw'!AF4=\"\",\"\",IF('Cup Draw'!AF4>'Cup Draw'!AH4,'Cup Draw'!AE4,IF('Cup Draw'!AF4<'Cup Draw'!AH4,'Cup Draw'!AI4)))","v":""}]
[4,null,null,0.49583550652307129,{"$f":"RANK(D5,$D$2:$D$81)+COUNTIF(E$1:E4,E4)-1","v":40},"Southampton",0.42224376262238572,{"$f":"RANK(G5,$G$2:$G$41)+COUNTIF(H$1:H4,H4)-1","v":24},{"$f":"IF('Cup Draw'!B5=\"\",\"\",IF('Cup Draw'!B5>'Cup Draw'!D5,'Cup Draw'!A5,IF('Cup Draw'!B5<'Cup Draw'!D5,'Cup Draw'!E5)))","v":""},0.11724038374045054,{"$f":"RANK(J5,$J$2:$J$65)+COUNTIF(K$1:K4,K4)-1","v":56},{"$f":"IF('Cup Draw'!H5=\"\",\"\",IF('Cup Draw'!H5>'Cup Draw'!J5,'Cup Draw'!G5,IF('Cup Draw'!H5<'Cup Draw'!J5,'Cup Draw'!K5)))","v":""},1.2170862723294928E-2,{"$f":"RANK(M5,$M$2:$M$33)+COUNTIF(N$1:N4,N4)-1","v":31},{"$f":"IF('Cup Draw'!N5=\"\",\"\",IF('Cup Draw'!N5>'Cup Draw'!P5,'Cup Draw'!M5,IF('Cup Draw'!N5<'Cup Draw'!P5,'Cup Draw'!Q5)))","v":""},0.5400029614966958,{"$f":"RANK(P5,$P$2:$P$17)+COUNTIF(Q$1:Q4,Q4)-1","v":7},{"$f":"IF('Cup Draw'!T5=\"\",\"\",IF('Cup Draw'!T5>'Cup Draw'!V5,'Cup Draw'!S5,IF('Cup Draw'!T5<'Cup Draw'!V5,'Cup Draw'!W5)))","v":""},0.80424241807932939,{"$f":"RANK(S5,$S$2:$S$9)+COUNTIF(T$1:T4,T4)-1","v":2},{"$f":"IF('Cup Draw'!Z5=\"\",\"\",IF('Cup Draw'!Z5>'Cup Draw'!AB5,'Cup Draw'!Y5,IF('Cup Draw'!Z5<'Cup Draw'!AB5,'Cup Draw'!AC5)))","v":""},9.4574973836454745E-2,{"$f":"RANK(V5,$V$2:$V$5)+COUNTIF(W$1:W4,W4)-1","v":4},{"$f":"IF('Cup Draw'!AF5=\"\",\"\",IF('Cup Draw'!AF5>'Cup Draw'!AH5,'Cup Draw'!AE5,IF('Cup Draw'!AF5<'Cup Draw'!AH5,'Cup Draw'!AI5)))","v":""}]
[5,null,null,7.2339233692922389E-2,{"$f":"RANK(D6,$D$2:$D$81)+COUNTIF(E$1:E5,E5)-1","v":73},"Oldham",0.63122883133074281,{"$f":"RANK(G6,$G$2:$G$41)+COUNTIF(H$1:H5,H5)-1","v":9},{"$f":"IF('Cup Draw'!B6=\"\",\"\",IF('Cup Draw'!B6>'Cup Draw'!D6,'Cup Draw'!A6,IF('Cup Draw'!B6<'Cup Draw'!D6,'Cup Draw'!E6)))","v":""},0.18992544913040688,{"$f":"RANK(J6,$J$2:$J$65)+COUNTIF(K$1:K5,K5)-1","v":54},{"$f":"IF('Cup Draw'!H6=\"\",\"\",IF('Cup Draw'!H6>'Cup Draw'!J6,'Cup Draw'!G6,IF('Cup Draw'!H6<'Cup Draw'!J6,'Cup Draw'!K6)))","v":""},0.15390525226531959,{"$f":"RANK(M6,$M$2:$M$33)+COUNTIF(N$1:N5,N5)-1","v":26},{"$f":"IF('Cup Draw'!N6=\"\",\"\",IF('Cup Draw'!N6>'Cup Draw'!P6,'Cup Draw'!M6,IF('Cup Draw'!N6<'Cup Draw'!P6,'Cup Draw'!Q6)))","v":""},0.18830772172894161,{"$f":"RANK(P6,$P$2:$P$17)+COUNTIF(Q$1:Q5,Q5)-1","v":14},{"$f":"IF('Cup Draw'!T6=\"\",\"\",IF('Cup Draw'!T6>'Cup Draw'!V6,'Cup Draw'!S6,IF('Cup Draw'!T6<'Cup Draw'!V6,'Cup Draw'!W6)))","v":""},0.83950076811943408,{"$f":"RANK(S6,$S$2:$S$9)+COUNTIF(T$1:T5,T5)-1","v":1},{"$f":"IF('Cup Draw'!Z6=\"\",\"\",IF('Cup Draw'!Z6>'Cup Draw'!AB6,'Cup Draw'!Y6,IF('Cup Draw'!Z6<'Cup Draw'!AB6,'Cup Draw'!AC6)))","v":""}]
[6,null,null,0.86718050025091276,{"$f":"RANK(D7,$D$2:$D$81)+COUNTIF(E$1:E6,E6)-1","v":12},"Charlton",0.46574722656103051,{"$f":"RANK(G7,$G$2:$G$41)+COUNTIF(H$1:H6,H6)-1","v":21},{"$f":"IF('Cup Draw'!B7=\"\",\"\",IF('Cup Draw'!B7>'Cup Draw'!D7,'Cup Draw'!A7,IF('Cup Draw'!B7<'Cup Draw'!D7,'Cup Draw'!E7)))","v":""},1.687813778480618E-2,{"$f":"RANK(J7,$J$2:$J$65)+COUNTIF(K$1:K6,K6)-1","v":63},{"$f":"IF('Cup Draw'!H7=\"\",\"\",IF('Cup Draw'!H7>'Cup Draw'!J7,'Cup Draw'!G7,IF('Cup Draw'!H7<'Cup Draw'!J7,'Cup Draw'!K7)))","v":""},0.2611146992378387,{"$f":"RANK(M7,$M$2:$M$33)+COUNTIF(N$1:N6,N6)-1","v":22},{"$f":"IF('Cup Draw'!N7=\"\",\"\",IF('Cup Draw'!N7>'Cup Draw'!P7,'Cup Draw'!M7,IF('Cup Draw'!N7<'Cup Draw'!P7,'Cup Draw'!Q7)))","v":""},4.9561570603252059E-2,{"$f":"RANK(P7,$P$2:$P$17)+COUNTIF(Q$1:Q6,Q6)-1","v":16},{"$f":"IF('Cup Draw'!T7=\"\",\"\",IF('Cup Draw'!T7>'Cup Draw'!V7,'Cup Draw'!S7,IF('Cup Draw'!T7<'Cup Draw'!V7,'Cup Draw'!W7)))","v":""},0.12844315892263858,{"$f":"RANK(S7,$S$2:$S$9)+COUNTIF(T$1:T6,T6)-1","v":6},{"$f":"IF('Cup Draw'!Z7=\"\",\"\",IF('Cup Draw'!Z7>'Cup Draw'!AB7,'Cup Draw'!Y7,IF('Cup Draw'!Z7<'Cup Draw'!AB7,'Cup Draw'!AC7)))","v":""}]
[7,null,null,0.42888034741061976,{"$f":"RANK(D8,$D$2:$D$81)+COUNTIF(E$1:E7,E7)-1","v":49},"MK Dons",0.60649572430170551,{"$f":"RANK(G8,$G$2:$G$41)+COUNTIF(H$1:H7,H7)-1","v":13},{"$f":"IF('Cup Draw'!B8=\"\",\"\",IF('Cup Draw'!B8>'Cup Draw'!D8,'Cup Draw'!A8,IF('Cup Draw'!B8<'Cup Draw'!D8,'Cup Draw'!E8)))","v":""},0.97833764091304842,{"$f":"RANK(J8,$J$2:$J$65)+COUNTIF(K$1:K7,K7)-1","v":2},{"$f":"IF('Cup Draw'!H8=\"\",\"\",IF('Cup Draw'!H8>'Cup Draw'!J8,'Cup Draw'!G8,IF('Cup Draw'!H8<'Cup Draw'!J8,'Cup Draw'!K8)))","v":""},0.36738918026756773,{"$f":"RANK(M8,$M$2:$M$33)+COUNTIF(N$1:N7,N7)-1","v":19},{"$f":"IF('Cup Draw'!N8=\"\",\"\",IF('Cup Draw'!N8>'Cup Draw'!P8,'Cup Draw'!M8,IF('Cup Draw'!N8<'Cup Draw'!P8,'Cup Draw'!Q8)))","v":""},0.79665355447627628,{"$f":"RANK(P8,$P$2:$P$17)+COUNTIF(Q$1:Q7,Q7)-1","v":5},{"$f":"IF('Cup Draw'!T8=\"\",\"\",IF('Cup Draw'!T8>'Cup Draw'!V8,'Cup Draw'!S8,IF('Cup Draw'!T8<'Cup Draw'!V8,'Cup Draw'!W8)))","v":""},0.47298357835257332,{"$f":"RANK(S8,$S$2:$S$9)+COUNTIF(T$1:T7,T7)-1","v":4},{"$f":"IF('Cup Draw'!Z8=\"\",\"\",IF('Cup Draw'!Z8>'Cup Draw'!AB8,'Cup Draw'!Y8,IF('Cup Draw'!Z8<'Cup Draw'!AB8,'Cup Draw'!AC8)))","v":""}]
[8,null,null,0.60662617906490901,{"$f":"RANK(D9,$D$2:$D$81)+COUNTIF(E$1:E8,E8)-1","v":31},"Peterborough",0.30581301103161229,{"$f":"RANK(G9,$G$2:$G$41)+COUNTIF(H$1:H8,H8)-1","v":29},{"$f":"IF('Cup Draw'!B9=\"\",\"\",IF('Cup Draw'!B9>'Cup Draw'!D9,'Cup Draw'!A9,IF('Cup Draw'!B9<'Cup Draw'!D9,'Cup Draw'!E9)))","v":""},0.75047115783859286,{"$f":"RANK(J9,$J$2:$J$65)+COUNTIF(K$1:K8,K8)-1","v":14},{"$f":"IF('Cup Draw'!H9=\"\",\"\",IF('Cup Draw'!H9>'Cup Draw'!J9,'Cup Draw'!G9,IF('Cup Draw'!H9<'Cup Draw'!J9,'Cup Draw'!K9)))","v":""},0.46387577878617225,{"$f":"RANK(M9,$M$2:$M$33)+COUNTIF(N$1:N8,N8)-1","v":17},{"$f":"IF('Cup Draw'!N9=\"\",\"\",IF('Cup Draw'!N9>'Cup Draw'!P9,'Cup Draw'!M9,IF('Cup Draw'!N9<'Cup Draw'!P9,'Cup Draw'!Q9)))","v":""},0.82130678540024926,{"$f":"RANK(P9,$P$2:$P$17)+COUNTIF(Q$1:Q8,Q8)-1","v":4},{"$f":"IF('Cup Draw'!T9=\"\",\"\",IF('Cup Draw'!T9>'Cup Draw'!V9,'Cup Draw'!S9,IF('Cup Draw'!T9<'Cup Draw'!V9,'Cup Draw'!W9)))","v":""},4.3831596668670647E-2,{"$f":"RANK(S9,$S$2:$S$9)+COUNTIF(T$1:T8,T8)-1","v":8},{"$f":"IF('Cup Draw'!Z9=\"\",\"\",IF('Cup Draw'!Z9>'Cup Draw'!AB9,'Cup Draw'!Y9,IF('Cup Draw'!Z9<'Cup Draw'!AB9,'Cup Draw'!AC9)))","v":""}]
[9,null,null,0.11477561258383795,{"$f":"RANK(D10,$D$2:$D$81)+COUNTIF(E$1:E9,E9)-1","v":69},"Rochdale",0.62881866221285032,{"$f":"RANK(G10,$G$2:$G$41)+COUNTIF(H$1:H9,H9)-1","v":10},{"$f":"IF('Cup Draw'!B10=\"\",\"\",IF('Cup Draw'!B10>'Cup Draw'!D10,'Cup Draw'!A10,IF('Cup Draw'!B10<'Cup Draw'!D10,'Cup Draw'!E10)))","v":""},0.20170003426344696,{"$f":"RANK(J10,$J$2:$J$65)+COUNTIF(K$1:K9,K9)-1","v":53},{"$f":"IF('Cup Draw'!H10=\"\",\"\",IF('Cup Draw'!H10>'Cup Draw'!J10,'Cup Draw'!G10,IF('Cup Draw'!H10<'Cup Draw'!J10,'Cup Draw'!K10)))","v":""},0.10801349336614363,{"$f":"RANK(M10,$M$2:$M$33)+COUNTIF(N$1:N9,N9)-1","v":30},{"$f":"IF('Cup Draw'!N10=\"\",\"\",IF('Cup Draw'!N10>'Cup Draw'!P10,'Cup Draw'!M10,IF('Cup Draw'!N10<'Cup Draw'!P10,'Cup Draw'!Q10)))","v":""},0.90004710241442865,{"$f":"RANK(P10,$P$2:$P$17)+COUNTIF(Q$1:Q9,Q9)-1","v":2},{"$f":"IF('Cup Draw'!T10=\"\",\"\",IF('Cup Draw'!T10>'Cup Draw'!V10,'Cup Draw'!S10,IF('Cup Draw'!T10<'Cup Draw'!V10,'Cup Draw'!W10)))","v":""}]
[10,null,null,0.65275734402134133,{"$f":"RANK(D11,$D$2:$D$81)+COUNTIF(E$1:E10,E10)-1","v":25},"Colchester",0.19285964096070818,{"$f":"RANK(G11,$G$2:$G$41)+COUNTIF(H$1:H10,H10)-1","v":35},{"$f":"IF('Cup Draw'!B11=\"\",\"\",IF('Cup Draw'!B11>'Cup Draw'!D11,'Cup Draw'!A11,IF('Cup Draw'!B11<'Cup Draw'!D11,'Cup Draw'!E11)))","v":""},0.67926047511187937,{"$f":"RANK(J11,$J$2:$J$65)+COUNTIF(K$1:K10,K10)-1","v":23},{"$f":"IF('Cup Draw'!H11=\"\",\"\",IF('Cup Draw'!H11>'Cup Draw'!J11,'Cup Draw'!G11,IF('Cup Draw'!H11<'Cup Draw'!J11,'Cup Draw'!K11)))","v":""},0.71930825890490679,{"$f":"RANK(M11,$M$2:$M$33)+COUNTIF(N$1:N10,N10)-1","v":7},{"$f":"IF('Cup Draw'!N11=\"\",\"\",IF('Cup Draw'!N11>'Cup Draw'!P11,'Cup Draw'!M11,IF('Cup Draw'!N11<'Cup Draw'!P11,'Cup Draw'!Q11)))","v":""},0.75062808779819257,{"$f":"RANK(P11,$P$2:$P$17)+COUNTIF(Q$1:Q10,Q10)-1","v":6},{"$f":"IF('Cup Draw'!T11=\"\",\"\",IF('Cup Draw'!T11>'Cup Draw'!V11,'Cup Draw'!S11,IF('Cup Draw'!T11<'Cup Draw'!V11,'Cup Draw'!W11)))","v":""}]
[11,null,null,9.3624748555268589E-2,{"$f":"RANK(D12,$D$2:$D$81)+COUNTIF(E$1:E11,E11)-1","v":72},"Leyton Orient",0.31041059318636977,{"$f":"RANK(G12,$G$2:$G$41)+COUNTIF(H$1:H11,H11)-1","v":28},{"$f":"IF('Cup Draw'!B12=\"\",\"\",IF('Cup Draw'!B12>'Cup Draw'!D12,'Cup Draw'!A12,IF('Cup Draw'!B12<'Cup Draw'!D12,'Cup Draw'!E12)))","v":""},0.26933025560428392,{"$f":"RANK(J12,$J$2:$J$65)+COUNTIF(K$1:K11,K11)-1","v":46},{"$f":"IF('Cup Draw'!H12=\"\",\"\",IF('Cup Draw'!H12>'Cup Draw'!J12,'Cup Draw'!G12,IF('Cup Draw'!H12<'Cup Draw'!J12,'Cup Draw'!K12)))","v":""},0.45021149248169734,{"$f":"RANK(M12,$M$2:$M$33)+COUNTIF(N$1:N11,N11)-1","v":18},{"$f":"IF('Cup Draw'!N12=\"\",\"\",IF('Cup Draw'!N12>'Cup Draw'!P12,'Cup Draw'!M12,IF('Cup Draw'!N12<'Cup Draw'!P12,'Cup Draw'!Q12)))","v":""},0.82538327133197142,{"$f":"RANK(P12,$P$2:$P$17)+COUNTIF(Q$1:Q11,Q11)-1","v":3},{"$f":"IF('Cup Draw'!T12=\"\",\"\",IF('Cup Draw'!T12>'Cup Draw'!V12,'Cup Draw'!S12,IF('Cup Draw'!T12<'Cup Draw'!V12,'Cup Draw'!W12)))","v":""}]
[12,null,null,0.63610582914064473,{"$f":"RANK(D13,$D$2:$D$81)+COUNTIF(E$1:E12,E12)-1","v":28},"Hartlepool",0.29453384730704069,{"$f":"RANK(G13,$G$2:$G$41)+COUNTIF(H$1:H12,H12)-1","v":30},{"$f":"IF('Cup Draw'!B13=\"\",\"\",IF('Cup Draw'!B13>'Cup Draw'!D13,'Cup Draw'!A13,IF('Cup Draw'!B13<'Cup Draw'!D13,'Cup Draw'!E13)))","v":""},0.39677017412897408,{"$f":"RANK(J13,$J$2:$J$65)+COUNTIF(K$1:K12,K12)-1","v":38},{"$f":"IF('Cup Draw'!H13=\"\",\"\",IF('Cup Draw'!H13>'Cup Draw'!J13,'Cup Draw'!G13,IF('Cup Draw'!H13<'Cup Draw'!J13,'Cup Draw'!K13)))","v":""},0.26530664183605057,{"$f":"RANK(M13,$M$2:$M$33)+COUNTIF(N$1:N12,N12)-1","v":21},{"$f":"IF('Cup Draw'!N13=\"\",\"\",IF('Cup Draw'!N13>'Cup Draw'!P13,'Cup Draw'!M13,IF('Cup Draw'!N13<'Cup Draw'!P13,'Cup Draw'!Q13)))","v":""},0.37370222347731963,{"$f":"RANK(P13,$P$2:$P$17)+COUNTIF(Q$1:Q12,Q12)-1","v":11},{"$f":"IF('Cup Draw'!T13=\"\",\"\",IF('Cup Draw'!T13>'Cup Draw'!V13,'Cup Draw'!S13,IF('Cup Draw'!T13<'Cup Draw'!V13,'Cup Draw'!W13)))","v":""}]
[13,null,null,0.51315749422906054,{"$f":"RANK(D14,$D$2:$D$81)+COUNTIF(E$1:E13,E13)-1","v":36},"Sheffield Wednesday",0.54202227347281962,{"$f":"RANK(G14,$G$2:$G$41)+COUNTIF(H$1:H13,H13)-1","v":15},{"$f":"IF('Cup Draw'!B14=\"\",\"\",IF('Cup Draw'!B14>'Cup Draw'!D14,'Cup Draw'!A14,IF('Cup Draw'!B14<'Cup Draw'!D14,'Cup Draw'!E14)))","v":""},0.5777620744519909,{"$f":"RANK(J14,$J$2:$J$65)+COUNTIF(K$1:K13,K13)-1","v":31},{"$f":"IF('Cup Draw'!H14=\"\",\"\",IF('Cup Draw'!H14>'Cup Draw'!J14,'Cup Draw'!G14,IF('Cup Draw'!H14<'Cup Draw'!J14,'Cup Draw'!K14)))","v":""},0.16183526307600049,{"$f":"RANK(M14,$M$2:$M$33)+COUNTIF(N$1:N13,N13)-1","v":25},{"$f":"IF('Cup Draw'!N14=\"\",\"\",IF('Cup Draw'!N14>'Cup Draw'!P14,'Cup Draw'!M14,IF('Cup Draw'!N14<'Cup Draw'!P14,'Cup Draw'!Q14)))","v":""},0.13429365323768128,{"$f":"RANK(P14,$P$2:$P$17)+COUNTIF(Q$1:Q13,Q13)-1","v":15},{"$f":"IF('Cup Draw'!T14=\"\",\"\",IF('Cup Draw'!T14>'Cup Draw'!V14,'Cup Draw'!S14,IF('Cup Draw'!T14<'Cup Draw'!V14,'Cup Draw'!W14)))","v":""}]
[14,null,null,0.51155726439715177,{"$f":"RANK(D15,$D$2:$D$81)+COUNTIF(E$1:E14,E14)-1","v":37},"Carlisle",0.47713363573968737,{"$f":"RANK(G15,$G$2:$G$41)+COUNTIF(H$1:H14,H14)-1","v":20},{"$f":"IF('Cup Draw'!B15=\"\",\"\",IF('Cup Draw'!B15>'Cup Draw'!D15,'Cup Draw'!A15,IF('Cup Draw'!B15<'Cup Draw'!D15,'Cup Draw'!E15)))","v":""},0.72759075390913464,{"$f":"RANK(J15,$J$2:$J$65)+COUNTIF(K$1:K14,K14)-1","v":18},{"$f":"IF('Cup Draw'!H15=\"\",\"\",IF('Cup Draw'!H15>'Cup Draw'!J15,'Cup Draw'!G15,IF('Cup Draw'!H15<'Cup Draw'!J15,'Cup Draw'!K15)))","v":""},0.64200612499739418,{"$f":"RANK(M15,$M$2:$M$33)+COUNTIF(N$1:N14,N14)-1","v":11},{"$f":"IF('Cup Draw'!N15=\"\",\"\",IF('Cup Draw'!N15>'Cup Draw'!P15,'Cup Draw'!M15,IF('Cup Draw'!N15<'Cup Draw'!P15,'Cup Draw'!Q15)))","v":""},0.38154399277862872,{"$f":"RANK(P15,$P$2:$P$17)+COUNTIF(Q$1:Q14,Q14)-1","v":9},{"$f":"IF('Cup Draw'!T15=\"\",\"\",IF('Cup Draw'!T15>'Cup Draw'!V15,'Cup Draw'!S15,IF('Cup Draw'!T15<'Cup Draw'!V15,'Cup Draw'!W15)))","v":""}]
[15,null,null,0.1647536017619784,{"$f":"RANK(D16,$D$2:$D$81)+COUNTIF(E$1:E15,E15)-1","v":66},"Brentford",0.80410513148006824,{"$f":"RANK(G16,$G$2:$G$41)+COUNTIF(H$1:H15,H15)-1","v":5},{"$f":"IF('Cup Draw'!B16=\"\",\"\",IF('Cup Draw'!B16>'Cup Draw'!D16,'Cup Draw'!A16,IF('Cup Draw'!B16<'Cup Draw'!D16,'Cup Draw'!E16)))","v":""},8.2261168974868459E-2,{"$f":"RANK(J16,$J$2:$J$65)+COUNTIF(K$1:K15,K15)-1","v":57},{"$f":"IF('Cup Draw'!H16=\"\",\"\",IF('Cup Draw'!H16>'Cup Draw'!J16,'Cup Draw'!G16,IF('Cup Draw'!H16<'Cup Draw'!J16,'Cup Draw'!K16)))","v":""},0.68179929690122409,{"$f":"RANK(M16,$M$2:$M$33)+COUNTIF(N$1:N15,N15)-1","v":8},{"$f":"IF('Cup Draw'!N16=\"\",\"\",IF('Cup Draw'!N16>'Cup Draw'!P16,'Cup Draw'!M16,IF('Cup Draw'!N16<'Cup Draw'!P16,'Cup Draw'!Q16)))","v":""},0.51156239211921029,{"$f":"RANK(P16,$P$2:$P$17)+COUNTIF(Q$1:Q15,Q15)-1","v":8},{"$f":"IF('Cup Draw'!T16=\"\",\"\",IF('Cup Draw'!T16>'Cup Draw'!V16,'Cup Draw'!S16,IF('Cup Draw'!T16<'Cup Draw'!V16,'Cup Draw'!W16)))","v":""}]
[16,null,null,0.7274125550590772,{"$f":"RANK(D17,$D$2:$D$81)+COUNTIF(E$1:E16,E16)-1","v":20},"Exeter",0.53802304590508332,{"$f":"RANK(G17,$G$2:$G$41)+COUNTIF(H$1:H16,H16)-1","v":16},{"$f":"IF('Cup Draw'!B17=\"\",\"\",IF('Cup Draw'!B17>'Cup Draw'!D17,'Cup Draw'!A17,IF('Cup Draw'!B17<'Cup Draw'!D17,'Cup Draw'!E17)))","v":""},0.63168230193975106,{"$f":"RANK(J17,$J$2:$J$65)+COUNTIF(K$1:K16,K16)-1","v":26},{"$f":"IF('Cup Draw'!H17=\"\",\"\",IF('Cup Draw'!H17>'Cup Draw'!J17,'Cup Draw'!G17,IF('Cup Draw'!H17<'Cup Draw'!J17,'Cup Draw'!K17)))","v":""},0.96435886943243221,{"$f":"RANK(M17,$M$2:$M$33)+COUNTIF(N$1:N16,N16)-1","v":1},{"$f":"IF('Cup Draw'!N17=\"\",\"\",IF('Cup Draw'!N17>'Cup Draw'!P17,'Cup Draw'!M17,IF('Cup Draw'!N17<'Cup Draw'!P17,'Cup Draw'!Q17)))","v":""},0.35795154153463116,{"$f":"RANK(P17,$P$2:$P$17)+COUNTIF(Q$1:Q16,Q16)-1","v":12},{"$f":"IF('Cup Draw'!T17=\"\",\"\",IF('Cup Draw'!T17>'Cup Draw'!V17,'Cup Draw'!S17,IF('Cup Draw'!T17<'Cup Draw'!V17,'Cup Draw'!W17)))","v":""}]
[17,null,null,0.62623311359544942,{"$f":"RANK(D18,$D$2:$D$81)+COUNTIF(E$1:E17,E17)-1","v":29},"Yeovil",0.67379855742714212,{"$f":"RANK(G18,$G$2:$G$41)+COUNTIF(H$1:H17,H17)-1","v":8},{"$f":"IF('Cup Draw'!B18=\"\",\"\",IF('Cup Draw'!B18>'Cup Draw'!D18,'Cup Draw'!A18,IF('Cup Draw'!B18<'Cup Draw'!D18,'Cup Draw'!E18)))","v":""},0.12270315032688983,{"$f":"RANK(J18,$J$2:$J$65)+COUNTIF(K$1:K17,K17)-1","v":55},{"$f":"IF('Cup Draw'!H18=\"\",\"\",IF('Cup Draw'!H18>'Cup Draw'!J18,'Cup Draw'!G18,IF('Cup Draw'!H18<'Cup Draw'!J18,'Cup Draw'!K18)))","v":""},0.16990074794111232,{"$f":"RANK(M18,$M$2:$M$33)+COUNTIF(N$1:N17,N17)-1","v":24},{"$f":"IF('Cup Draw'!N18=\"\",\"\",IF('Cup Draw'!N18>'Cup Draw'!P18,'Cup Draw'!M18,IF('Cup Draw'!N18<'Cup Draw'!P18,'Cup Draw'!Q18)))","v":""}]
[18,null,null,0.52186560188588238,{"$f":"RANK(D19,$D$2:$D$81)+COUNTIF(E$1:E18,E18)-1","v":35},"Plymouth",0.50176521087973691,{"$f":"RANK(G19,$G$2:$G$41)+COUNTIF(H$1:H18,H18)-1","v":17},{"$f":"IF('Cup Draw'!B19=\"\",\"\",IF('Cup Draw'!B19>'Cup Draw'!D19,'Cup Draw'!A19,IF('Cup Draw'!B19<'Cup Draw'!D19,'Cup Draw'!E19)))","v":""},0.96269583278442505,{"$f":"RANK(J19,$J$2:$J$65)+COUNTIF(K$1:K18,K18)-1","v":3},{"$f":"IF('Cup Draw'!H19=\"\",\"\",IF('Cup Draw'!H19>'Cup Draw'!J19,'Cup Draw'!G19,IF('Cup Draw'!H19<'Cup Draw'!J19,'Cup Draw'!K19)))","v":""},0.84822413985827882,{"$f":"RANK(M19,$M$2:$M$33)+COUNTIF(N$1:N18,N18)-1","v":4},{"$f":"IF('Cup Draw'!N19=\"\",\"\",IF('Cup Draw'!N19>'Cup Draw'!P19,'Cup Draw'!M19,IF('Cup Draw'!N19<'Cup Draw'!P19,'Cup Draw'!Q19)))","v":""}]
[19,null,null,0.71921327398206902,{"$f":"RANK(D20,$D$2:$D$81)+COUNTIF(E$1:E19,E19)-1","v":21},"Notts county",0.38832450569890897,{"$f":"RANK(G20,$G$2:$G$41)+COUNTIF(H$1:H19,H19)-1","v":25},{"$f":"IF('Cup Draw'!B20=\"\",\"\",IF('Cup Draw'!B20>'Cup Draw'!D20,'Cup Draw'!A20,IF('Cup Draw'!B20<'Cup Draw'!D20,'Cup Draw'!E20)))","v":""},0.24245789904178605,{"$f":"RANK(J20,$J$2:$J$65)+COUNTIF(K$1:K19,K19)-1","v":50},{"$f":"IF('Cup Draw'!H20=\"\",\"\",IF('Cup Draw'!H20>'Cup Draw'!J20,'Cup Draw'!G20,IF('Cup Draw'!H20<'Cup Draw'!J20,'Cup Draw'!K20)))","v":""},0.12489820569741938,{"$f":"RANK(M20,$M$2:$M$33)+COUNTIF(N$1:N19,N19)-1","v":28},{"$f":"IF('Cup Draw'!N20=\"\",\"\",IF('Cup Draw'!N20>'Cup Draw'!P20,'Cup Draw'!M20,IF('Cup Draw'!N20<'Cup Draw'!P20,'Cup Draw'!Q20)))","v":""}]
[20,null,null,0.29354654511287082,{"$f":"RANK(D21,$D$2:$D$81)+COUNTIF(E$1:E20,E20)-1","v":59},"Tranmere",4.4336390365685485E-2,{"$f":"RANK(G21,$G$2:$G$41)+COUNTIF(H$1:H20,H20)-1","v":39},{"$f":"IF('Cup Draw'!B21=\"\",\"\",IF('Cup Draw'!B21>'Cup Draw'!D21,'Cup Draw'!A21,IF('Cup Draw'!B21<'Cup Draw'!D21,'Cup Draw'!E21)))","v":""},0.61298325888682481,{"$f":"RANK(J21,$J$2:$J$65)+COUNTIF(K$1:K20,K20)-1","v":28},{"$f":"IF('Cup Draw'!H21=\"\",\"\",IF('Cup Draw'!H21>'Cup Draw'!J21,'Cup Draw'!G21,IF('Cup Draw'!H21<'Cup Draw'!J21,'Cup Draw'!K21)))","v":""},0.63119038246289649,{"$f":"RANK(M21,$M$2:$M$33)+COUNTIF(N$1:N20,N20)-1","v":12},{"$f":"IF('Cup Draw'!N21=\"\",\"\",IF('Cup Draw'!N21>'Cup Draw'!P21,'Cup Draw'!M21,IF('Cup Draw'!N21<'Cup Draw'!P21,'Cup Draw'!Q21)))","v":""}]
[21,null,null,0.73001737237922315,{"$f":"RANK(D22,$D$2:$D$81)+COUNTIF(E$1:E21,E21)-1","v":19},"Swindon",0.93974078229641322,{"$f":"RANK(G22,$G$2:$G$41)+COUNTIF(H$1:H21,H21)-1","v":3},{"$f":"IF('Cup Draw'!B22=\"\",\"\",IF('Cup Draw'!B22>'Cup Draw'!D22,'Cup Draw'!A22,IF('Cup Draw'!B22<'Cup Draw'!D22,'Cup Draw'!E22)))","v":""},0.74457633552723879,{"$f":"RANK(J22,$J$2:$J$65)+COUNTIF(K$1:K21,K21)-1","v":16},{"$f":"IF($L$2=\"\",\"\",\"Fulham\")","v":""},0.20603168667697891,{"$f":"RANK(M22,$M$2:$M$33)+COUNTIF(N$1:N21,N21)-1","v":23},{"$f":"IF('Cup Draw'!N22=\"\",\"\",IF('Cup Draw'!N22>'Cup Draw'!P22,'Cup Draw'!M22,IF('Cup Draw'!N22<'Cup Draw'!P22,'Cup Draw'!Q22)))","v":""}]
[22,null,null,0.25066324606342605,{"$f":"RANK(D23,$D$2:$D$81)+COUNTIF(E$1:E22,E22)-1","v":61},"Walsall",0.22525342849476837,{"$f":"RANK(G23,$G$2:$G$41)+COUNTIF(H$1:H22,H22)-1","v":31},{"$f":"IF('Cup Draw'!B23=\"\",\"\",IF('Cup Draw'!B23>'Cup Draw'!D23,'Cup Draw'!A23,IF('Cup Draw'!B23<'Cup Draw'!D23,'Cup Draw'!E23)))","v":""},0.91522634836301853,{"$f":"RANK(J23,$J$2:$J$65)+COUNTIF(K$1:K22,K22)-1","v":9},{"$f":"IF($L$2=\"\",\"\",\"Fulham\")","v":""},0.76146081063760573,{"$f":"RANK(M23,$M$2:$M$33)+COUNTIF(N$1:N22,N22)-1","v":6},{"$f":"IF('Cup Draw'!N23=\"\",\"\",IF('Cup Draw'!N23>'Cup Draw'!P23,'Cup Draw'!M23,IF('Cup Draw'!N23<'Cup Draw'!P23,'Cup Draw'!Q23)))","v":""}]
[23,null,null,2.2927428883273593E-2,{"$f":"RANK(D24,$D$2:$D$81)+COUNTIF(E$1:E23,E23)-1","v":77},"Dagenham and Redbridge",0.48029206263737778,{"$f":"RANK(G24,$G$2:$G$41)+COUNTIF(H$1:H23,H23)-1","v":19},{"$f":"IF('Cup Draw'!B24=\"\",\"\",IF('Cup Draw'!B24>'Cup Draw'!D24,'Cup Draw'!A24,IF('Cup Draw'!B24<'Cup Draw'!D24,'Cup Draw'!E24)))","v":""},0.37411082860193889,{"$f":"RANK(J24,$J$2:$J$65)+COUNTIF(K$1:K23,K23)-1","v":39},"",0.66424881524506607,{"$f":"RANK(M24,$M$2:$M$33)+COUNTIF(N$1:N23,N23)-1","v":9},{"$f":"IF('Cup Draw'!N24=\"\",\"\",IF('Cup Draw'!N24>'Cup Draw'!P24,'Cup Draw'!M24,IF('Cup Draw'!N24<'Cup Draw'!P24,'Cup Draw'!Q24)))","v":""}]
[24,null,null,0.99119352783281689,{"$f":"RANK(D25,$D$2:$D$81)+COUNTIF(E$1:E24,E24)-1","v":1},"Bristol Rovers",0.6029951094844973,{"$f":"RANK(G25,$G$2:$G$41)+COUNTIF(H$1:H24,H24)-1","v":14},{"$f":"IF('Cup Draw'!B25=\"\",\"\",IF('Cup Draw'!B25>'Cup Draw'!D25,'Cup Draw'!A25,IF('Cup Draw'!B25<'Cup Draw'!D25,'Cup Draw'!E25)))","v":""},0.45889978930725384,{"$f":"RANK(J25,$J$2:$J$65)+COUNTIF(K$1:K24,K24)-1","v":37},"",0.49910040470080019,{"$f":"RANK(M25,$M$2:$M$33)+COUNTIF(N$1:N24,N24)-1","v":16},{"$f":"IF('Cup Draw'!N25=\"\",\"\",IF('Cup Draw'!N25>'Cup Draw'!P25,'Cup Draw'!M25,IF('Cup Draw'!N25<'Cup Draw'!P25,'Cup Draw'!Q25)))","v":""}]
[25,null,null,0.44637917289000451,{"$f":"RANK(D26,$D$2:$D$81)+COUNTIF(E$1:E25,E25)-1","v":45},"Chesterfield",4.398951824917674E-3,{"$f":"RANK(G26,$G$2:$G$41)+COUNTIF(H$1:H25,H25)-1","v":40},{"$f":"IF('Cup Draw'!B26=\"\",\"\",IF('Cup Draw'!B26>'Cup Draw'!D26,'Cup Draw'!A26,IF('Cup Draw'!B26<'Cup Draw'!D26,'Cup Draw'!E26)))","v":""},0.76375734606359946,{"$f":"RANK(J26,$J$2:$J$65)+COUNTIF(K$1:K25,K25)-1","v":13},"",0.8360801928672621,{"$f":"RANK(M26,$M$2:$M$33)+COUNTIF(N$1:N25,N25)-1","v":5},{"$f":"IF('Cup Draw'!N26=\"\",\"\",IF('Cup Draw'!N26>'Cup Draw'!P26,'Cup Draw'!M26,IF('Cup Draw'!N26<'Cup Draw'!P26,'Cup Draw'!Q26)))","v":""}]
[26,null,null,0.91318052440653552,{"$f":"RANK(D27,$D$2:$D$81)+COUNTIF(E$1:E26,E26)-1","v":9},"Wycombe",0.35206528494130707,{"$f":"RANK(G27,$G$2:$G$41)+COUNTIF(H$1:H26,H26)-1","v":27},{"$f":"IF('Cup Draw'!B27=\"\",\"\",IF('Cup Draw'!B27>'Cup Draw'!D27,'Cup Draw'!A27,IF('Cup Draw'!B27<'Cup Draw'!D27,'Cup Draw'!E27)))","v":""},0.29680680661239167,{"$f":"RANK(J27,$J$2:$J$65)+COUNTIF(K$1:K26,K26)-1","v":44},"",0.52951950493618083,{"$f":"RANK(M27,$M$2:$M$33)+COUNTIF(N$1:N26,N26)-1","v":15},{"$f":"IF('Cup Draw'!N27=\"\",\"\",IF('Cup Draw'!N27>'Cup Draw'!P27,'Cup Draw'!M27,IF('Cup Draw'!N27<'Cup Draw'!P27,'Cup Draw'!Q27)))","v":""}]
[27,null,null,0.79951114973453419,{"$f":"RANK(D28,$D$2:$D$81)+COUNTIF(E$1:E27,E27)-1","v":15},"Shrewsbury",0.4879928271524846,{"$f":"RANK(G28,$G$2:$G$41)+COUNTIF(H$1:H27,H27)-1","v":18},{"$f":"IF('Cup Draw'!B28=\"\",\"\",IF('Cup Draw'!B28>'Cup Draw'!D28,'Cup Draw'!A28,IF('Cup Draw'!B28<'Cup Draw'!D28,'Cup Draw'!E28)))","v":""},0.33348629248058725,{"$f":"RANK(J28,$J$2:$J$65)+COUNTIF(K$1:K27,K27)-1","v":41},"",0.65069570905040452,{"$f":"RANK(M28,$M$2:$M$33)+COUNTIF(N$1:N27,N27)-1","v":10},{"$f":"IF('Cup Draw'!N28=\"\",\"\",IF('Cup Draw'!N28>'Cup Draw'!P28,'Cup Draw'!M28,IF('Cup Draw'!N28<'Cup Draw'!P28,'Cup Draw'!Q28)))","v":""}]
[28,null,null,0.9315946346816768,{"$f":"RANK(D29,$D$2:$D$81)+COUNTIF(E$1:E28,E28)-1","v":7},"Rotherham",0.77633726582903839,{"$f":"RANK(G29,$G$2:$G$41)+COUNTIF(H$1:H28,H28)-1","v":6},{"$f":"IF('Cup Draw'!B29=\"\",\"\",IF('Cup Draw'!B29>'Cup Draw'!D29,'Cup Draw'!A29,IF('Cup Draw'!B29<'Cup Draw'!D29,'Cup Draw'!E29)))","v":""},0.48171943372838766,{"$f":"RANK(J29,$J$2:$J$65)+COUNTIF(K$1:K28,K28)-1","v":36},"",0.58825698967946494,{"$f":"RANK(M29,$M$2:$M$33)+COUNTIF(N$1:N28,N28)-1","v":14},{"$f":"IF('Cup Draw'!N29=\"\",\"\",IF('Cup Draw'!N29>'Cup Draw'!P29,'Cup Draw'!M29,IF('Cup Draw'!N29<'Cup Draw'!P29,'Cup Draw'!Q29)))","v":""}]
[29,null,null,0.68595409627279058,{"$f":"RANK(D30,$D$2:$D$81)+COUNTIF(E$1:E29,E29)-1","v":23},"Bury",0.42490015586790386,{"$f":"RANK(G30,$G$2:$G$41)+COUNTIF(H$1:H29,H29)-1","v":23},{"$f":"IF('Cup Draw'!B30=\"\",\"\",IF('Cup Draw'!B30>'Cup Draw'!D30,'Cup Draw'!A30,IF('Cup Draw'!B30<'Cup Draw'!D30,'Cup Draw'!E30)))","v":""},0.64942829342567776,{"$f":"RANK(J30,$J$2:$J$65)+COUNTIF(K$1:K29,K29)-1","v":24},"",8.8510431931418942E-3,{"$f":"RANK(M30,$M$2:$M$33)+COUNTIF(N$1:N29,N29)-1","v":32},{"$f":"IF('Cup Draw'!N30=\"\",\"\",IF('Cup Draw'!N30>'Cup Draw'!P30,'Cup Draw'!M30,IF('Cup Draw'!N30<'Cup Draw'!P30,'Cup Draw'!Q30)))","v":""}]
[30,null,null,0.43072613280949279,{"$f":"RANK(D31,$D$2:$D$81)+COUNTIF(E$1:E30,E30)-1","v":48},"Gillingham",0.96747334498092674,{"$f":"RANK(G31,$G$2:$G$41)+COUNTIF(H$1:H30,H30)-1","v":1},{"$f":"IF('Cup Draw'!B31=\"\",\"\",IF('Cup Draw'!B31>'Cup Draw'!D31,'Cup Draw'!A31,IF('Cup Draw'!B31<'Cup Draw'!D31,'Cup Draw'!E31)))","v":""},0.91693986611238365,{"$f":"RANK(J31,$J$2:$J$65)+COUNTIF(K$1:K30,K30)-1","v":8},"",0.35713266474843419,{"$f":"RANK(M31,$M$2:$M$33)+COUNTIF(N$1:N30,N30)-1","v":20},{"$f":"IF('Cup Draw'!N31=\"\",\"\",IF('Cup Draw'!N31>'Cup Draw'!P31,'Cup Draw'!M31,IF('Cup Draw'!N31<'Cup Draw'!P31,'Cup Draw'!Q31)))","v":""}]
[31,null,null,5.9776679733997584E-2,{"$f":"RANK(D32,$D$2:$D$81)+COUNTIF(E$1:E31,E31)-1","v":75},"Port Vale",0.13987669826096172,{"$f":"RANK(G32,$G$2:$G$41)+COUNTIF(H$1:H31,H31)-1","v":38},{"$f":"IF('Cup Draw'!B32=\"\",\"\",IF('Cup Draw'!B32>'Cup Draw'!D32,'Cup Draw'!A32,IF('Cup Draw'!B32<'Cup Draw'!D32,'Cup Draw'!E32)))","v":""},7.5301124604311154E-3,{"$f":"RANK(J32,$J$2:$J$65)+COUNTIF(K$1:K31,K31)-1","v":64},"",0.13598898283561023,{"$f":"RANK(M32,$M$2:$M$33)+COUNTIF(N$1:N31,N31)-1","v":27},{"$f":"IF('Cup Draw'!N32=\"\",\"\",IF('Cup Draw'!N32>'Cup Draw'!P32,'Cup Draw'!M32,IF('Cup Draw'!N32<'Cup Draw'!P32,'Cup Draw'!Q32)))","v":""}]
[32,null,null,0.96506125989188074,{"$f":"RANK(D33,$D$2:$D$81)+COUNTIF(E$1:E32,E32)-1","v":3},"Crewe",0.46314719840025198,{"$f":"RANK(G33,$G$2:$G$41)+COUNTIF(H$1:H32,H32)-1","v":22},{"$f":"IF('Cup Draw'!B33=\"\",\"\",IF('Cup Draw'!B33>'Cup Draw'!D33,'Cup Draw'!A33,IF('Cup Draw'!B33<'Cup Draw'!D33,'Cup Draw'!E33)))","v":""},0.90090378568715956,{"$f":"RANK(J33,$J$2:$J$65)+COUNTIF(K$1:K32,K32)-1","v":10},"",0.61088308836385941,{"$f":"RANK(M33,$M$2:$M$33)+COUNTIF(N$1:N32,N32)-1","v":13},{"$f":"IF('Cup Draw'!N33=\"\",\"\",IF('Cup Draw'!N33>'Cup Draw'!P33,'Cup Draw'!M33,IF('Cup Draw'!N33<'Cup Draw'!P33,'Cup Draw'!Q33)))","v":""}]
[33,null,null,0.33980681545042279,{"$f":"RANK(D34,$D$2:$D$81)+COUNTIF(E$1:E33,E33)-1","v":54},"Oxford Utd",0.94477354895577792,{"$f":"RANK(G34,$G$2:$G$41)+COUNTIF(H$1:H33,H33)-1","v":2},{"$f":"IF('Cup Draw'!B34=\"\",\"\",IF('Cup Draw'!B34>'Cup Draw'!D34,'Cup Draw'!A34,IF('Cup Draw'!B34<'Cup Draw'!D34,'Cup Draw'!E34)))","v":""},0.54013662520518857,{"$f":"RANK(J34,$J$2:$J$65)+COUNTIF(K$1:K33,K33)-1","v":33},""]
[34,null,null,0.92248907270655844,{"$f":"RANK(D35,$D$2:$D$81)+COUNTIF(E$1:E34,E34)-1","v":8},"Southend",0.16198255052121469,{"$f":"RANK(G35,$G$2:$G$41)+COUNTIF(H$1:H34,H34)-1","v":37},{"$f":"IF('Cup Draw'!B35=\"\",\"\",IF('Cup Draw'!B35>'Cup Draw'!D35,'Cup Draw'!A35,IF('Cup Draw'!B35<'Cup Draw'!D35,'Cup Draw'!E35)))","v":""},0.60726377705470092,{"$f":"RANK(J35,$J$2:$J$65)+COUNTIF(K$1:K34,K34)-1","v":30},""]
[35,null,null,0.82197866148747201,{"$f":"RANK(D36,$D$2:$D$81)+COUNTIF(E$1:E35,E35)-1","v":14},"Cheltenham",0.22161666644822731,{"$f":"RANK(G36,$G$2:$G$41)+COUNTIF(H$1:H35,H35)-1","v":32},{"$f":"IF('Cup Draw'!B36=\"\",\"\",IF('Cup Draw'!B36>'Cup Draw'!D36,'Cup Draw'!A36,IF('Cup Draw'!B36<'Cup Draw'!D36,'Cup Draw'!E36)))","v":""},0.36002092242340356,{"$f":"RANK(J36,$J$2:$J$65)+COUNTIF(K$1:K35,K35)-1","v":40},""]
[36,null,null,0.23812250256520662,{"$f":"RANK(D37,$D$2:$D$81)+COUNTIF(E$1:E36,E36)-1","v":62},"Torquay",0.37009843771203432,{"$f":"RANK(G37,$G$2:$G$41)+COUNTIF(H$1:H36,H36)-1","v":26},{"$f":"IF('Cup Draw'!B37=\"\",\"\",IF('Cup Draw'!B37>'Cup Draw'!D37,'Cup Draw'!A37,IF('Cup Draw'!B37<'Cup Draw'!D37,'Cup Draw'!E37)))","v":""},0.2577607922602495,{"$f":"RANK(J37,$J$2:$J$65)+COUNTIF(K$1:K36,K36)-1","v":47},""]
[37,null,null,0.65513031917976405,{"$f":"RANK(D38,$D$2:$D$81)+COUNTIF(E$1:E37,E37)-1","v":24},"Stevenage",0.61206839277200276,{"$f":"RANK(G38,$G$2:$G$41)+COUNTIF(H$1:H37,H37)-1","v":11},{"$f":"IF('Cup Draw'!B38=\"\",\"\",IF('Cup Draw'!B38>'Cup Draw'!D38,'Cup Draw'!A38,IF('Cup Draw'!B38<'Cup Draw'!D38,'Cup Draw'!E38)))","v":""},0.61016762613025222,{"$f":"RANK(J38,$J$2:$J$65)+COUNTIF(K$1:K37,K37)-1","v":29},""]
[38,null,null,1.1832295089523104E-2,{"$f":"RANK(D39,$D$2:$D$81)+COUNTIF(E$1:E38,E38)-1","v":80},"Northampton",0.60654217661838505,{"$f":"RANK(G39,$G$2:$G$41)+COUNTIF(H$1:H38,H38)-1","v":12},{"$f":"IF('Cup Draw'!B39=\"\",\"\",IF('Cup Draw'!B39>'Cup Draw'!D39,'Cup Draw'!A39,IF('Cup Draw'!B39<'Cup Draw'!D39,'Cup Draw'!E39)))","v":""},0.74956794144547667,{"$f":"RANK(J39,$J$2:$J$65)+COUNTIF(K$1:K38,K38)-1","v":15},""]
[39,null,null,0.28027223943675739,{"$f":"RANK(D40,$D$2:$D$81)+COUNTIF(E$1:E39,E39)-1","v":60},"Aldershot",0.7742625931533702,{"$f":"RANK(G40,$G$2:$G$41)+COUNTIF(H$1:H39,H39)-1","v":7},{"$f":"IF('Cup Draw'!B40=\"\",\"\",IF('Cup Draw'!B40>'Cup Draw'!D40,'Cup Draw'!A40,IF('Cup Draw'!B40<'Cup Draw'!D40,'Cup Draw'!E40)))","v":""},0.69889776785642022,{"$f":"RANK(J40,$J$2:$J$65)+COUNTIF(K$1:K39,K39)-1","v":21},""]
[40,null,null,0.718896230104909,{"$f":"RANK(D41,$D$2:$D$81)+COUNTIF(E$1:E40,E40)-1","v":22},"Lincoln city",0.92215507993374513,{"$f":"RANK(G41,$G$2:$G$41)+COUNTIF(H$1:H40,H40)-1","v":4},{"$f":"IF('Cup Draw'!B41=\"\",\"\",IF('Cup Draw'!B41>'Cup Draw'!D41,'Cup Draw'!A41,IF('Cup Draw'!B41<'Cup Draw'!D41,'Cup Draw'!E41)))","v":""},0.94256747260145091,{"$f":"RANK(J41,$J$2:$J$65)+COUNTIF(K$1:K40,K40)-1","v":4},""]
[41,null,null,0.79825798111891633,{"$f":"RANK(D42,$D$2:$D$81)+COUNTIF(E$1:E41,E41)-1","v":16},"Accrington Stanley",null,null,null,0.22931985464423998,{"$f":"RANK(J42,$J$2:$J$65)+COUNTIF(K$1:K41,K41)-1","v":51},""]
[42,null,null,0.86852942697196922,{"$f":"RANK(D43,$D$2:$D$81)+COUNTIF(E$1:E42,E42)-1","v":11},"Morcambe",null,null,null,0.92466299575718491,{"$f":"RANK(J43,$J$2:$J$65)+COUNTIF(K$1:K42,K42)-1","v":7},""]
[43,null,null,0.15442392609881184,{"$f":"RANK(D44,$D$2:$D$81)+COUNTIF(E$1:E43,E43)-1","v":67},"Bradford",null,null,null,0.93512170106499992,{"$f":"RANK(J44,$J$2:$J$65)+COUNTIF(K$1:K43,K43)-1","v":6},""]
[44,null,null,0.47918827142495091,{"$f":"RANK(D45,$D$2:$D$81)+COUNTIF(E$1:E44,E44)-1","v":43},"Hereford",null,null,null,0.56957342931107491,{"$f":"RANK(J45,$J$2:$J$65)+COUNTIF(K$1:K44,K44)-1","v":32},""]
[45,null,null,0.31757359251103967,{"$f":"RANK(D46,$D$2:$D$81)+COUNTIF(E$1:E45,E45)-1","v":56},"Macclesfield",null,null,null,3.1217532962332095E-2,{"$f":"RANK(J46,$J$2:$J$65)+COUNTIF(K$1:K45,K45)-1","v":61},""]
[46,null,null,0.51091227659819116,{"$f":"RANK(D47,$D$2:$D$81)+COUNTIF(E$1:E46,E46)-1","v":38},"Barnet",null,null,null,5.9499912801392107E-2,{"$f":"RANK(J47,$J$2:$J$65)+COUNTIF(K$1:K46,K46)-1","v":59},""]
[47,null,null,0.33694568160431382,{"$f":"RANK(D48,$D$2:$D$81)+COUNTIF(E$1:E47,E47)-1","v":55},"Burton albion",null,null,null,0.25737806787133666,{"$f":"RANK(J48,$J$2:$J$65)+COUNTIF(K$1:K47,K47)-1","v":48},""]
[48,null,null,0.84463458655615464,{"$f":"RANK(D49,$D$2:$D$81)+COUNTIF(E$1:E48,E48)-1","v":13},"Stockport",null,null,null,0.49920166744418648,{"$f":"RANK(J49,$J$2:$J$65)+COUNTIF(K$1:K48,K48)-1","v":34},""]
[49,null,null,0.21489831975686569,{"$f":"RANK(D50,$D$2:$D$81)+COUNTIF(E$1:E49,E49)-1","v":65},"Corby Town",null,null,null,0.85035171133761311,{"$f":"RANK(J50,$J$2:$J$65)+COUNTIF(K$1:K49,K49)-1","v":11},""]
[50,null,null,9.3864615125981321E-2,{"$f":"RANK(D51,$D$2:$D$81)+COUNTIF(E$1:E50,E50)-1","v":71},"Harrow Borough",null,null,null,0.62442152840524279,{"$f":"RANK(J51,$J$2:$J$65)+COUNTIF(K$1:K50,K50)-1","v":27},""]
[51,null,null,0.59056712688715107,{"$f":"RANK(D52,$D$2:$D$81)+COUNTIF(E$1:E51,E51)-1","v":32},"Gateshead",null,null,null,0.69947709863613317,{"$f":"RANK(J52,$J$2:$J$65)+COUNTIF(K$1:K51,K51)-1","v":20},""]
[52,null,null,6.5070201590865628E-2,{"$f":"RANK(D53,$D$2:$D$81)+COUNTIF(E$1:E52,E52)-1","v":74},"Southport",null,null,null,0.29487277951407753,{"$f":"RANK(J53,$J$2:$J$65)+COUNTIF(K$1:K52,K52)-1","v":45},""]
[53,null,null,1.1945801839192138E-2,{"$f":"RANK(D54,$D$2:$D$81)+COUNTIF(E$1:E53,E53)-1","v":79},"York City",null,null,null,0.9365050006079283,{"$f":"RANK(J54,$J$2:$J$65)+COUNTIF(K$1:K53,K53)-1","v":5},""]
[54,null,null,0.12403517545659537,{"$f":"RANK(D55,$D$2:$D$81)+COUNTIF(E$1:E54,E54)-1","v":68},"Havant & Waterlooville",null,null,null,0.25651214025873925,{"$f":"RANK(J55,$J$2:$J$65)+COUNTIF(K$1:K54,K54)-1","v":49},""]
[55,null,null,0.48086734148761601,{"$f":"RANK(D56,$D$2:$D$81)+COUNTIF(E$1:E55,E55)-1","v":42},"Droylsden",null,null,null,0.31109277633819843,{"$f":"RANK(J56,$J$2:$J$65)+COUNTIF(K$1:K55,K55)-1","v":43},""]
[56,null,null,0.42693567394141851,{"$f":"RANK(D57,$D$2:$D$81)+COUNTIF(E$1:E56,E56)-1","v":50},"Hayes and Yeading United",null,null,null,5.1351545894035344E-2,{"$f":"RANK(J57,$J$2:$J$65)+COUNTIF(K$1:K56,K56)-1","v":60},""]
[57,null,null,0.77057476541102665,{"$f":"RANK(D58,$D$2:$D$81)+COUNTIF(E$1:E57,E57)-1","v":18},"AFC Wimbledon",null,null,null,0.78080932084156207,{"$f":"RANK(J58,$J$2:$J$65)+COUNTIF(K$1:K57,K57)-1","v":12},""]
[58,null,null,0.94745299607881173,{"$f":"RANK(D59,$D$2:$D$81)+COUNTIF(E$1:E58,E58)-1","v":5},"Ebbsfleet United",null,null,null,1.7409126322900925E-2,{"$f":"RANK(J59,$J$2:$J$65)+COUNTIF(K$1:K58,K58)-1","v":62},""]
[59,null,null,0.44143975446986772,{"$f":"RANK(D60,$D$2:$D$81)+COUNTIF(E$1:E59,E59)-1","v":46},"Nuneaton Town",null,null,null,0.49527736613658657,{"$f":"RANK(J60,$J$2:$J$65)+COUNTIF(K$1:K59,K59)-1","v":35},""]
[60,null,null,0.77372621761010174,{"$f":"RANK(D61,$D$2:$D$81)+COUNTIF(E$1:E60,E60)-1","v":17},"Mansfield",null,null,null,0.99428485494245655,{"$f":"RANK(J61,$J$2:$J$65)+COUNTIF(K$1:K60,K60)-1","v":1},""]
[61,null,null,2.8059301376322621E-2,{"$f":"RANK(D62,$D$2:$D$81)+COUNTIF(E$1:E61,E61)-1","v":76},"Hythe Town",null,null,null,0.32447597808459572,{"$f":"RANK(J62,$J$2:$J$65)+COUNTIF(K$1:K61,K61)-1","v":42},""]
[62,null,null,0.43936135731879411,{"$f":"RANK(D63,$D$2:$D$81)+COUNTIF(E$1:E62,E62)-1","v":47},"Chelmsford City",null,null,null,0.68367245067867199,{"$f":"RANK(J63,$J$2:$J$65)+COUNTIF(K$1:K62,K62)-1","v":22},""]
[63,null,null,0.63617919474810458,{"$f":"RANK(D64,$D$2:$D$81)+COUNTIF(E$1:E63,E63)-1","v":27},"Hendon",null,null,null,6.4818259315554294E-2,{"$f":"RANK(J64,$J$2:$J$65)+COUNTIF(K$1:K63,K63)-1","v":58},""]
[64,null,null,0.97846375003374442,{"$f":"RANK(D65,$D$2:$D$81)+COUNTIF(E$1:E64,E64)-1","v":2},"Bath City",null,null,null,0.64493466229238106,{"$f":"RANK(J65,$J$2:$J$65)+COUNTIF(K$1:K64,K64)-1","v":25},""]
[65,null,null,0.29902580663990541,{"$f":"RANK(D66,$D$2:$D$81)+COUNTIF(E$1:E65,E65)-1","v":58},"Eastwood Town"]
[66,null,null,{"$f":"RAND()","v":0.35008652341325119},{"$f":"RANK(D67,$D$2:$D$81)+COUNTIF(E$1:E66,E66)-1","v":53},"Rushden and Diamonds"]
[67,null,null,2.2564748562030279E-2,{"$f":"RANK(D68,$D$2:$D$81)+COUNTIF(E$1:E67,E67)-1","v":78},"Cambridge United"]
[68,null,null,0.89819815955360471,{"$f":"RANK(D69,$D$2:$D$81)+COUNTIF(E$1:E68,E68)-1","v":10},"Farnborough"]
[69,null,null,0.490562571253913,{"$f":"RANK(D70,$D$2:$D$81)+COUNTIF(E$1:E69,E69)-1","v":41},"Grimsby Town"]
[70,null,null,0.10757519581896668,{"$f":"RANK(D71,$D$2:$D$81)+COUNTIF(E$1:E70,E70)-1","v":70},"Guiseley"]
[71,null,null,0.21670669725818137,{"$f":"RANK(D72,$D$2:$D$81)+COUNTIF(E$1:E71,E71)-1","v":64},"Carshalton Athletic"]
[72,null,null,0.44871625541498905,{"$f":"RANK(D73,$D$2:$D$81)+COUNTIF(E$1:E72,E72)-1","v":44},"Workington"]
[73,null,null,0.50420620292713914,{"$f":"RANK(D74,$D$2:$D$81)+COUNTIF(E$1:E73,E73)-1","v":39},"Crawley Town"]
[74,null,null,0.63776984290993011,{"$f":"RANK(D75,$D$2:$D$81)+COUNTIF(E$1:E74,E74)-1","v":26},"Woking"]
[75,null,null,0.94040616019816925,{"$f":"RANK(D76,$D$2:$D$81)+COUNTIF(E$1:E75,E75)-1","v":6},"FC United of Manchester"]
[76,null,null,0.30544778897383873,{"$f":"RANK(D77,$D$2:$D$81)+COUNTIF(E$1:E76,E76)-1","v":57},"Tipton Town"]
[77,null,null,0.23638928221822608,{"$f":"RANK(D78,$D$2:$D$81)+COUNTIF(E$1:E77,E77)-1","v":63},"Dartford"]
[78,null,null,0.56862763502269387,{"$f":"RANK(D79,$D$2:$D$81)+COUNTIF(E$1:E78,E78)-1","v":34},"Forest Green Rovers"]
[79,null,null,0.394034243603955,{"$f":"RANK(D80,$D$2:$D$81)+COUNTIF(E$1:E79,E79)-1","v":51},"Fleetwood town"]
[80,null,null,0.5828517834475625,{"$f":"RANK(D81,$D$2:$D$81)+COUNTIF(E$1:E80,E80)-1","v":33},"Vauxhall Motors"]

{"sheet":"Cup Draw","index":1,"n_rows":41,"n_cols":49,"rows_kept":41,"cut":false,"hidden":false,"merged":[]}
["First Round",null,null,null,null,null,"Second Round",null,null,null,null,null,"Third Round",null,null,null,null,null,"Fourth Round",null,null,null,null,null,"Fifth Round",null,null,null,null,null,"Quarter Finals",null,null,null,null,null,"Semi Final",null,null,null,null,null,"Final",null,null,null,null,null,"Winner"]
[{"$f":"VLOOKUP(Data!$A2,Data!$E$2:$F$81,2,FALSE)","v":"Bristol Rovers"},null,"v",null,{"$f":"VLOOKUP(Data!$A42,Data!$E$2:$F$81,2,FALSE)","v":"Grimsby Town"},null,{"$f":"VLOOKUP(Data!$A2,Data!$H$2:$I$41,2,FALSE)","v":""},null,"v",null,{"$f":"VLOOKUP(Data!$A22,Data!$H$2:$I$41,2,FALSE)","v":""},null,{"$f":"VLOOKUP(Data!$A2,Data!$K$2:$L$65,2,FALSE)","v":""},null,"v",null,{"$f":"VLOOKUP(Data!$A34,Data!$K$2:$L$65,2,FALSE)","v":""},null,{"$f":"VLOOKUP(Data!$A2,Data!$N$2:$O$33,2,FALSE)","v":""},null,"v",null,{"$f":"VLOOKUP(Data!$A18,Data!$N$2:$O$33,2,FALSE)","v":""},null,{"$f":"VLOOKUP(Data!$A2,Data!$Q$2:$R$17,2,FALSE)","v":""},null,"v",null,{"$f":"VLOOKUP(Data!$A10,Data!$Q$2:$R$17,2,FALSE)","v":""},null,{"$f":"VLOOKUP(Data!$A2,Data!$T$2:$U$9,2,FALSE)","v":""},null,"v",null,{"$f":"VLOOKUP(Data!$A6,Data!$T$2:$U$9,2,FALSE)","v":""},null,{"$f":"VLOOKUP(Data!$A2,Data!$W$2:$X$5,2,FALSE)","v":""},null,"v",null,{"$f":"VLOOKUP(Data!$A4,Data!$W$2:$X$5,2,FALSE)","v":""},null,{"$f":"VLOOKUP(Data!$A2,Data!$Z$2:$AA$3,2,FALSE)","v":""},null,"v",null,{"$f":"VLOOKUP(Data!$A3,Data!$Z$2:$AA$3,2,FALSE)","v":""},null,{"$f":"IF(AR2=\"\",\"\",IF(AR2>AT2,AQ2,IF(AR2<AT2,AU2)))","v":""}]
[{"$f":"VLOOKUP(Data!$A3,Data!$E$2:$F$81,2,FALSE)","v":"Bath City"},null,"v",null,{"$f":"VLOOKUP(Data!$A43,Data!$E$2:$F$81,2,FALSE)","v":"Droylsden"},null,{"$f":"VLOOKUP(Data!$A3,Data!$H$2:$I$41,2,FALSE)","v":""},null,"v",null,{"$f":"VLOOKUP(Data!$A23,Data!$H$2:$I$41,2,FALSE)","v":""},null,{"$f":"VLOOKUP(Data!$A3,Data!$K$2:$L$65,2,FALSE)","v":""},null,"v",null,{"$f":"VLOOKUP(Data!$A35,Data!$K$2:$L$65,2,FALSE)","v":""},null,{"$f":"VLOOKUP(Data!$A3,Data!$N$2:$O$33,2,FALSE)","v":""},null,"v",null,{"$f":"VLOOKUP(Data!$A19,Data!$N$2:$O$33,2,FALSE)","v":""},null,{"$f":"VLOOKUP(Data!$A3,Data!$Q$2:$R$17,2,FALSE)","v":""},null,"v",null,{"$f":"VLOOKUP(Data!$A11,Data!$Q$2:$R$17,2,FALSE)","v":""},null,{"$f":"VLOOKUP(Data!$A3,Data!$T$2:$U$9,2,FALSE)","v":""},null,"v",null,{"$f":"VLOOKUP(Data!$A7,Data!$T$2:$U$9,2,FALSE)","v":""},null,{"$f":"VLOOKUP(Data!$A3,Data!$W$2:$X$5,2,FALSE)","v":""},null,"v",null,{"$f":"VLOOKUP(Data!$A5,Data!$W$2:$X$5,2,FALSE)","v":""}]
[{"$f":"VLOOKUP(Data!$A4,Data!$E$2:$F$81,2,FALSE)","v":"Crewe"},null,"v",null,{"$f":"VLOOKUP(Data!$A44,Data!$E$2:$F$81,2,FALSE)","v":"Hereford"},null,{"$f":"VLOOKUP(Data!$A4,Data!$H$2:$I$41,2,FALSE)","v":""},null,"v",null,{"$f":"VLOOKUP(Data!$A24,Data!$H$2:$I$41,2,FALSE)","v":""},null,{"$f":"VLOOKUP(Data!$A4,Data!$K$2:$L$65,2,FALSE)","v":""},null,"v",null,{"$f":"VLOOKUP(Data!$A36,Data!$K$2:$L$65,2,FALSE)","v":""},null,{"$f":"VLOOKUP(Data!$A4,Data!$N$2:$O$33,2,FALSE)","v":""},null,"v",null,{"$f":"VLOOKUP(Data!$A20,Data!$N$2:$O$33,2,FALSE)","v":""},null,{"$f":"VLOOKUP(Data!$A4,Data!$Q$2:$R$17,2,FALSE)","v":""},null,"v",null,{"$f":"VLOOKUP(Data!$A12,Data!$Q$2:$R$17,2,FALSE)","v":""},null,{"$f":"VLOOKUP(Data!$A4,Data!$T$2:$U$9,2,FALSE)","v":""},null,"v",null,{"$f":"VLOOKUP(Data!$A8,Data!$T$2:$U$9,2,FALSE)","v":""}]
[{"$f":"VLOOKUP(Data!$A5,Data!$E$2:$F$81,2,FALSE)","v":"Huddersfield"},null,"v",null,{"$f":"VLOOKUP(Data!$A45,Data!$E$2:$F$81,2,FALSE)","v":"Workington"},null,{"$f":"VLOOKUP(Data!$A5,Data!$H$2:$I$41,2,FALSE)","v":""},null,"v",null,{"$f":"VLOOKUP(Data!$A25,Data!$H$2:$I$41,2,FALSE)","v":""},null,{"$f":"VLOOKUP(Data!$A5,Data!$K$2:$L$65,2,FALSE)","v":""},null,"v",null,{"$f":"VLOOKUP(Data!$A37,Data!$K$2:$L$65,2,FALSE)","v":""},null,{"$f":"VLOOKUP(Data!$A5,Data!$N$2:$O$33,2,FALSE)","v":""},null,"v",null,{"$f":"VLOOKUP(Data!$A21,Data!$N$2:$O$33,2,FALSE)","v":""},null,{"$f":"VLOOKUP(Data!$A5,Data!$Q$2:$R$17,2,FALSE)","v":""},null,"v",null,{"$f":"VLOOKUP(Data!$A13,Data!$Q$2:$R$17,2,FALSE)","v":""},null,{"$f":"VLOOKUP(Data!$A5,Data!$T$2:$U$9,2,FALSE)","v":""},null,"v",null,{"$f":"VLOOKUP(Data!$A9,Data!$T$2:$U$9,2,FALSE)","v":""}]
[{"$f":"VLOOKUP(Data!$A6,Data!$E$2:$F$81,2,FALSE)","v":"Ebbsfleet United"},null,"v",null,{"$f":"VLOOKUP(Data!$A46,Data!$E$2:$F$81,2,FALSE)","v":"Chesterfield"},null,{"$f":"VLOOKUP(Data!$A6,Data!$H$2:$I$41,2,FALSE)","v":""},null,"v",null,{"$f":"VLOOKUP(Data!$A26,Data!$H$2:$I$41,2,FALSE)","v":""},null,{"$f":"VLOOKUP(Data!$A6,Data!$K$2:$L$65,2,FALSE)","v":""},null,"v",null,{"$f":"VLOOKUP(Data!$A38,Data!$K$2:$L$65,2,FALSE)","v":""},null,{"$f":"VLOOKUP(Data!$A6,Data!$N$2:$O$33,2,FALSE)","v":""},null,"v",null,{"$f":"VLOOKUP(Data!$A22,Data!$N$2:$O$33,2,FALSE)","v":""},null,{"$f":"VLOOKUP(Data!$A6,Data!$Q$2:$R$17,2,FALSE)","v":""},null,"v",null,{"$f":"VLOOKUP(Data!$A14,Data!$Q$2:$R$17,2,FALSE)","v":""}]
[{"$f":"VLOOKUP(Data!$A7,Data!$E$2:$F$81,2,FALSE)","v":"FC United of Manchester"},null,"v",null,{"$f":"VLOOKUP(Data!$A47,Data!$E$2:$F$81,2,FALSE)","v":"Nuneaton Town"},null,{"$f":"VLOOKUP(Data!$A7,Data!$H$2:$I$41,2,FALSE)","v":""},null,"v",null,{"$f":"VLOOKUP(Data!$A27,Data!$H$2:$I$41,2,FALSE)","v":""},null,{"$f":"VLOOKUP(Data!$A7,Data!$K$2:$L$65,2,FALSE)","v":""},null,"v",null,{"$f":"VLOOKUP(Data!$A39,Data!$K$2:$L$65,2,FALSE)","v":""},null,{"$f":"VLOOKUP(Data!$A7,Data!$N$2:$O$33,2,FALSE)","v":""},null,"v",null,{"$f":"VLOOKUP(Data!$A23,Data!$N$2:$O$33,2,FALSE)","v":""},null,{"$f":"VLOOKUP(Data!$A7,Data!$Q$2:$R$17,2,FALSE)","v":""},null,"v",null,{"$f":"VLOOKUP(Data!$A15,Data!$Q$2:$R$17,2,FALSE)","v":""}]
[{"$f":"VLOOKUP(Data!$A8,Data!$E$2:$F$81,2,FALSE)","v":"Rotherham"},null,"v",null,{"$f":"VLOOKUP(Data!$A48,Data!$E$2:$F$81,2,FALSE)","v":"Chelmsford City"},null,{"$f":"VLOOKUP(Data!$A8,Data!$H$2:$I$41,2,FALSE)","v":""},null,"v",null,{"$f":"VLOOKUP(Data!$A28,Data!$H$2:$I$41,2,FALSE)","v":""},null,{"$f":"VLOOKUP(Data!$A8,Data!$K$2:$L$65,2,FALSE)","v":""},null,"v",null,{"$f":"VLOOKUP(Data!$A40,Data!$K$2:$L$65,2,FALSE)","v":""},null,{"$f":"VLOOKUP(Data!$A8,Data!$N$2:$O$33,2,FALSE)","v":""},null,"v",null,{"$f":"VLOOKUP(Data!$A24,Data!$N$2:$O$33,2,FALSE)","v":""},null,{"$f":"VLOOKUP(Data!$A8,Data!$Q$2:$R$17,2,FALSE)","v":""},null,"v",null,{"$f":"VLOOKUP(Data!$A16,Data!$Q$2:$R$17,2,FALSE)","v":""}]
[{"$f":"VLOOKUP(Data!$A9,Data!$E$2:$F$81,2,FALSE)","v":"Southend"},null,"v",null,{"$f":"VLOOKUP(Data!$A49,Data!$E$2:$F$81,2,FALSE)","v":"Gillingham"},null,{"$f":"VLOOKUP(Data!$A9,Data!$H$2:$I$41,2,FALSE)","v":""},null,"v",null,{"$f":"VLOOKUP(Data!$A29,Data!$H$2:$I$41,2,FALSE)","v":""},null,{"$f":"VLOOKUP(Data!$A9,Data!$K$2:$L$65,2,FALSE)","v":""},null,"v",null,{"$f":"VLOOKUP(Data!$A41,Data!$K$2:$L$65,2,FALSE)","v":""},null,{"$f":"VLOOKUP(Data!$A9,Data!$N$2:$O$33,2,FALSE)","v":""},null,"v",null,{"$f":"VLOOKUP(Data!$A25,Data!$N$2:$O$33,2,FALSE)","v":""},null,{"$f":"VLOOKUP(Data!$A9,Data!$Q$2:$R$17,2,FALSE)","v":""},null,"v",null,{"$f":"VLOOKUP(Data!$A17,Data!$Q$2:$R$17,2,FALSE)","v":""}]
[{"$f":"VLOOKUP(Data!$A10,Data!$E$2:$F$81,2,FALSE)","v":"Wycombe"},null,"v",null,{"$f":"VLOOKUP(Data!$A50,Data!$E$2:$F$81,2,FALSE)","v":"MK Dons"},null,{"$f":"VLOOKUP(Data!$A10,Data!$H$2:$I$41,2,FALSE)","v":""},null,"v",null,{"$f":"VLOOKUP(Data!$A30,Data!$H$2:$I$41,2,FALSE)","v":""},null,{"$f":"VLOOKUP(Data!$A10,Data!$K$2:$L$65,2,FALSE)","v":""},null,"v",null,{"$f":"VLOOKUP(Data!$A42,Data!$K$2:$L$65,2,FALSE)","v":""},null,{"$f":"VLOOKUP(Data!$A10,Data!$N$2:$O$33,2,FALSE)","v":""},null,"v",null,{"$f":"VLOOKUP(Data!$A26,Data!$N$2:$O$33,2,FALSE)","v":""}]
[{"$f":"VLOOKUP(Data!$A11,Data!$E$2:$F$81,2,FALSE)","v":"Farnborough"},null,"v",null,{"$f":"VLOOKUP(Data!$A51,Data!$E$2:$F$81,2,FALSE)","v":"Hayes and Yeading United"},null,{"$f":"VLOOKUP(Data!$A11,Data!$H$2:$I$41,2,FALSE)","v":""},null,"v",null,{"$f":"VLOOKUP(Data!$A31,Data!$H$2:$I$41,2,FALSE)","v":""},null,{"$f":"VLOOKUP(Data!$A11,Data!$K$2:$L$65,2,FALSE)","v":""},null,"v",null,{"$f":"VLOOKUP(Data!$A43,Data!$K$2:$L$65,2,FALSE)","v":""},null,{"$f":"VLOOKUP(Data!$A11,Data!$N$2:$O$33,2,FALSE)","v":""},null,"v",null,{"$f":"VLOOKUP(Data!$A27,Data!$N$2:$O$33,2,FALSE)","v":""}]
[{"$f":"VLOOKUP(Data!$A12,Data!$E$2:$F$81,2,FALSE)","v":"Morcambe"},null,"v",null,{"$f":"VLOOKUP(Data!$A52,Data!$E$2:$F$81,2,FALSE)","v":"Fleetwood town"},null,{"$f":"VLOOKUP(Data!$A12,Data!$H$2:$I$41,2,FALSE)","v":""},null,"v",null,{"$f":"VLOOKUP(Data!$A32,Data!$H$2:$I$41,2,FALSE)","v":""},null,{"$f":"VLOOKUP(Data!$A12,Data!$K$2:$L$65,2,FALSE)","v":""},null,"v",null,{"$f":"VLOOKUP(Data!$A44,Data!$K$2:$L$65,2,FALSE)","v":""},null,{"$f":"VLOOKUP(Data!$A12,Data!$N$2:$O$33,2,FALSE)","v":""},null,"v",null,{"$f":"VLOOKUP(Data!$A28,Data!$N$2:$O$33,2,FALSE)","v":""}]
[{"$f":"VLOOKUP(Data!$A13,Data!$E$2:$F$81,2,FALSE)","v":"Charlton"},null,"v",null,{"$f":"VLOOKUP(Data!$A53,Data!$E$2:$F$81,2,FALSE)","v":"Bournemouth"},null,{"$f":"VLOOKUP(Data!$A13,Data!$H$2:$I$41,2,FALSE)","v":""},null,"v",null,{"$f":"VLOOKUP(Data!$A33,Data!$H$2:$I$41,2,FALSE)","v":""},null,{"$f":"VLOOKUP(Data!$A13,Data!$K$2:$L$65,2,FALSE)","v":""},null,"v",null,{"$f":"VLOOKUP(Data!$A45,Data!$K$2:$L$65,2,FALSE)","v":""},null,{"$f":"VLOOKUP(Data!$A13,Data!$N$2:$O$33,2,FALSE)","v":""},null,"v",null,{"$f":"VLOOKUP(Data!$A29,Data!$N$2:$O$33,2,FALSE)","v":""}]
[{"$f":"VLOOKUP(Data!$A14,Data!$E$2:$F$81,2,FALSE)","v":"Stockport"},null,"v",null,{"$f":"VLOOKUP(Data!$A54,Data!$E$2:$F$81,2,FALSE)","v":"Rushden and Diamonds"},null,{"$f":"VLOOKUP(Data!$A14,Data!$H$2:$I$41,2,FALSE)","v":""},null,"v",null,{"$f":"VLOOKUP(Data!$A34,Data!$H$2:$I$41,2,FALSE)","v":""},null,{"$f":"VLOOKUP(Data!$A14,Data!$K$2:$L$65,2,FALSE)","v":""},null,"v",null,{"$f":"VLOOKUP(Data!$A46,Data!$K$2:$L$65,2,FALSE)","v":""},null,{"$f":"VLOOKUP(Data!$A14,Data!$N$2:$O$33,2,FALSE)","v":""},null,"v",null,{"$f":"VLOOKUP(Data!$A30,Data!$N$2:$O$33,2,FALSE)","v":""}]
[{"$f":"VLOOKUP(Data!$A15,Data!$E$2:$F$81,2,FALSE)","v":"Cheltenham"},null,"v",null,{"$f":"VLOOKUP(Data!$A55,Data!$E$2:$F$81,2,FALSE)","v":"Oxford Utd"},null,{"$f":"VLOOKUP(Data!$A15,Data!$H$2:$I$41,2,FALSE)","v":""},null,"v",null,{"$f":"VLOOKUP(Data!$A35,Data!$H$2:$I$41,2,FALSE)","v":""},null,{"$f":"VLOOKUP(Data!$A15,Data!$K$2:$L$65,2,FALSE)","v":""},null,"v",null,{"$f":"VLOOKUP(Data!$A47,Data!$K$2:$L$65,2,FALSE)","v":""},null,{"$f":"VLOOKUP(Data!$A15,Data!$N$2:$O$33,2,FALSE)","v":""},null,"v",null,{"$f":"VLOOKUP(Data!$A31,Data!$N$2:$O$33,2,FALSE)","v":""}]
[{"$f":"VLOOKUP(Data!$A16,Data!$E$2:$F$81,2,FALSE)","v":"Shrewsbury"},null,"v",null,{"$f":"VLOOKUP(Data!$A56,Data!$E$2:$F$81,2,FALSE)","v":"Burton albion"},null,{"$f":"VLOOKUP(Data!$A16,Data!$H$2:$I$41,2,FALSE)","v":""},null,"v",null,{"$f":"VLOOKUP(Data!$A36,Data!$H$2:$I$41,2,FALSE)","v":""},null,{"$f":"VLOOKUP(Data!$A16,Data!$K$2:$L$65,2,FALSE)","v":""},null,"v",null,{"$f":"VLOOKUP(Data!$A48,Data!$K$2:$L$65,2,FALSE)","v":""},null,{"$f":"VLOOKUP(Data!$A16,Data!$N$2:$O$33,2,FALSE)","v":""},null,"v",null,{"$f":"VLOOKUP(Data!$A32,Data!$N$2:$O$33,2,FALSE)","v":""}]
[{"$f":"VLOOKUP(Data!$A17,Data!$E$2:$F$81,2,FALSE)","v":"Accrington Stanley"},null,"v",null,{"$f":"VLOOKUP(Data!$A57,Data!$E$2:$F$81,2,FALSE)","v":"Macclesfield"},null,{"$f":"VLOOKUP(Data!$A17,Data!$H$2:$I$41,2,FALSE)","v":""},null,"v",null,{"$f":"VLOOKUP(Data!$A37,Data!$H$2:$I$41,2,FALSE)","v":""},null,{"$f":"VLOOKUP(Data!$A17,Data!$K$2:$L$65,2,FALSE)","v":""},null,"v",null,{"$f":"VLOOKUP(Data!$A49,Data!$K$2:$L$65,2,FALSE)","v":""},null,{"$f":"VLOOKUP(Data!$A17,Data!$N$2:$O$33,2,FALSE)","v":""},null,"v",null,{"$f":"VLOOKUP(Data!$A33,Data!$N$2:$O$33,2,FALSE)","v":""}]
[{"$f":"VLOOKUP(Data!$A18,Data!$E$2:$F$81,2,FALSE)","v":"Mansfield"},null,"v",null,{"$f":"VLOOKUP(Data!$A58,Data!$E$2:$F$81,2,FALSE)","v":"Tipton Town"},null,{"$f":"VLOOKUP(Data!$A18,Data!$H$2:$I$41,2,FALSE)","v":""},null,"v",null,{"$f":"VLOOKUP(Data!$A38,Data!$H$2:$I$41,2,FALSE)","v":""},null,{"$f":"VLOOKUP(Data!$A18,Data!$K$2:$L$65,2,FALSE)","v":""},null,"v",null,{"$f":"VLOOKUP(Data!$A50,Data!$K$2:$L$65,2,FALSE)","v":""}]
[{"$f":"VLOOKUP(Data!$A19,Data!$E$2:$F$81,2,FALSE)","v":"AFC Wimbledon"},null,"v",null,{"$f":"VLOOKUP(Data!$A59,Data!$E$2:$F$81,2,FALSE)","v":"Eastwood Town"},null,{"$f":"VLOOKUP(Data!$A19,Data!$H$2:$I$41,2,FALSE)","v":""},null,"v",null,{"$f":"VLOOKUP(Data!$A39,Data!$H$2:$I$41,2,FALSE)","v":""},null,{"$f":"VLOOKUP(Data!$A19,Data!$K$2:$L$65,2,FALSE)","v":""},null,"v",null,{"$f":"VLOOKUP(Data!$A51,Data!$K$2:$L$65,2,FALSE)","v":""}]
[{"$f":"VLOOKUP(Data!$A20,Data!$E$2:$F$81,2,FALSE)","v":"Swindon"},null,"v",null,{"$f":"VLOOKUP(Data!$A60,Data!$E$2:$F$81,2,FALSE)","v":"Tranmere"},null,{"$f":"VLOOKUP(Data!$A20,Data!$H$2:$I$41,2,FALSE)","v":""},null,"v",null,{"$f":"VLOOKUP(Data!$A40,Data!$H$2:$I$41,2,FALSE)","v":""},null,{"$f":"VLOOKUP(Data!$A20,Data!$K$2:$L$65,2,FALSE)","v":""},null,"v",null,{"$f":"VLOOKUP(Data!$A52,Data!$K$2:$L$65,2,FALSE)","v":""}]
[{"$f":"VLOOKUP(Data!$A21,Data!$E$2:$F$81,2,FALSE)","v":"Exeter"},null,"v",null,{"$f":"VLOOKUP(Data!$A61,Data!$E$2:$F$81,2,FALSE)","v":"Aldershot"},null,{"$f":"VLOOKUP(Data!$A21,Data!$H$2:$I$41,2,FALSE)","v":""},null,"v",null,{"$f":"VLOOKUP(Data!$A41,Data!$H$2:$I$41,2,FALSE)","v":""},null,{"$f":"VLOOKUP(Data!$A21,Data!$K$2:$L$65,2,FALSE)","v":""},null,"v",null,{"$f":"VLOOKUP(Data!$A53,Data!$K$2:$L$65,2,FALSE)","v":""}]
[{"$f":"VLOOKUP(Data!$A22,Data!$E$2:$F$81,2,FALSE)","v":"Notts county"},null,"v",null,{"$f":"VLOOKUP(Data!$A62,Data!$E$2:$F$81,2,FALSE)","v":"Walsall"},null,null,null,null,null,null,null,{"$f":"VLOOKUP(Data!$A22,Data!$K$2:$L$65,2,FALSE)","v":""},null,"v",null,{"$f":"VLOOKUP(Data!$A54,Data!$K$2:$L$65,2,FALSE)","v":""}]
[{"$f":"VLOOKUP(Data!$A23,Data!$E$2:$F$81,2,FALSE)","v":"Lincoln city"},null,"v",null,{"$f":"VLOOKUP(Data!$A63,Data!$E$2:$F$81,2,FALSE)","v":"Torquay"},null,null,null,null,null,null,null,{"$f":"VLOOKUP(Data!$A23,Data!$K$2:$L$65,2,FALSE)","v":""},null,"v",null,{"$f":"VLOOKUP(Data!$A55,Data!$K$2:$L$65,2,FALSE)","v":""}]
[{"$f":"VLOOKUP(Data!$A24,Data!$E$2:$F$81,2,FALSE)","v":"Bury"},null,"v",null,{"$f":"VLOOKUP(Data!$A64,Data!$E$2:$F$81,2,FALSE)","v":"Dartford"},null,null,null,null,null,null,null,{"$f":"VLOOKUP(Data!$A24,Data!$K$2:$L$65,2,FALSE)","v":""},null,"v",null,{"$f":"VLOOKUP(Data!$A56,Data!$K$2:$L$65,2,FALSE)","v":""}]
[{"$f":"VLOOKUP(Data!$A25,Data!$E$2:$F$81,2,FALSE)","v":"Stevenage"},null,"v",null,{"$f":"VLOOKUP(Data!$A65,Data!$E$2:$F$81,2,FALSE)","v":"Carshalton Athletic"},null,null,null,null,null,null,null,{"$f":"VLOOKUP(Data!$A25,Data!$K$2:$L$65,2,FALSE)","v":""},null,"v",null,{"$f":"VLOOKUP(Data!$A57,Data!$K$2:$L$65,2,FALSE)","v":""}]
[{"$f":"VLOOKUP(Data!$A26,Data!$E$2:$F$81,2,FALSE)","v":"Colchester"},null,"v",null,{"$f":"VLOOKUP(Data!$A66,Data!$E$2:$F$81,2,FALSE)","v":"Corby Town"},null,null,null,null,null,null,null,{"$f":"VLOOKUP(Data!$A26,Data!$K$2:$L$65,2,FALSE)","v":""},null,"v",null,{"$f":"VLOOKUP(Data!$A58,Data!$K$2:$L$65,2,FALSE)","v":""}]
[{"$f":"VLOOKUP(Data!$A27,Data!$E$2:$F$81,2,FALSE)","v":"Woking"},null,"v",null,{"$f":"VLOOKUP(Data!$A67,Data!$E$2:$F$81,2,FALSE)","v":"Brentford"},null,null,null,null,null,null,null,{"$f":"VLOOKUP(Data!$A27,Data!$K$2:$L$65,2,FALSE)","v":""},null,"v",null,{"$f":"VLOOKUP(Data!$A59,Data!$K$2:$L$65,2,FALSE)","v":""}]
[{"$f":"VLOOKUP(Data!$A28,Data!$E$2:$F$81,2,FALSE)","v":"Hendon"},null,"v",null,{"$f":"VLOOKUP(Data!$A68,Data!$E$2:$F$81,2,FALSE)","v":"Bradford"},null,null,null,null,null,null,null,{"$f":"VLOOKUP(Data!$A28,Data!$K$2:$L$65,2,FALSE)","v":""},null,"v",null,{"$f":"VLOOKUP(Data!$A60,Data!$K$2:$L$65,2,FALSE)","v":""}]
[{"$f":"VLOOKUP(Data!$A29,Data!$E$2:$F$81,2,FALSE)","v":"Hartlepool"},null,"v",null,{"$f":"VLOOKUP(Data!$A69,Data!$E$2:$F$81,2,FALSE)","v":"Havant & Waterlooville"},null,null,null,null,null,null,null,{"$f":"VLOOKUP(Data!$A29,Data!$K$2:$L$65,2,FALSE)","v":""},null,"v",null,{"$f":"VLOOKUP(Data!$A61,Data!$K$2:$L$65,2,FALSE)","v":""}]
[{"$f":"VLOOKUP(Data!$A30,Data!$E$2:$F$81,2,FALSE)","v":"Yeovil"},null,"v",null,{"$f":"VLOOKUP(Data!$A70,Data!$E$2:$F$81,2,FALSE)","v":"Rochdale"},null,null,null,null,null,null,null,{"$f":"VLOOKUP(Data!$A30,Data!$K$2:$L$65,2,FALSE)","v":""},null,"v",null,{"$f":"VLOOKUP(Data!$A62,Data!$K$2:$L$65,2,FALSE)","v":""}]
[{"$f":"VLOOKUP(Data!$A31,Data!$E$2:$F$81,2,FALSE)","v":"Brighton"},null,"v",null,{"$f":"VLOOKUP(Data!$A71,Data!$E$2:$F$81,2,FALSE)","v":"Guiseley"},null,null,null,null,null,null,null,{"$f":"VLOOKUP(Data!$A31,Data!$K$2:$L$65,2,FALSE)","v":""},null,"v",null,{"$f":"VLOOKUP(Data!$A63,Data!$K$2:$L$65,2,FALSE)","v":""}]
[{"$f":"VLOOKUP(Data!$A32,Data!$E$2:$F$81,2,FALSE)","v":"Peterborough"},null,"v",null,{"$f":"VLOOKUP(Data!$A72,Data!$E$2:$F$81,2,FALSE)","v":"Harrow Borough"},null,null,null,null,null,null,null,{"$f":"VLOOKUP(Data!$A32,Data!$K$2:$L$65,2,FALSE)","v":""},null,"v",null,{"$f":"VLOOKUP(Data!$A64,Data!$K$2:$L$65,2,FALSE)","v":""}]
[{"$f":"VLOOKUP(Data!$A33,Data!$E$2:$F$81,2,FALSE)","v":"Gateshead"},null,"v",null,{"$f":"VLOOKUP(Data!$A73,Data!$E$2:$F$81,2,FALSE)","v":"Leyton Orient"},null,null,null,null,null,null,null,{"$f":"VLOOKUP(Data!$A33,Data!$K$2:$L$65,2,FALSE)","v":""},null,"v",null,{"$f":"VLOOKUP(Data!$A65,Data!$K$2:$L$65,2,FALSE)","v":""}]
[{"$f":"VLOOKUP(Data!$A34,Data!$E$2:$F$81,2,FALSE)","v":"Vauxhall Motors"},null,"v",null,{"$f":"VLOOKUP(Data!$A74,Data!$E$2:$F$81,2,FALSE)","v":"Oldham"}]
[{"$f":"VLOOKUP(Data!$A35,Data!$E$2:$F$81,2,FALSE)","v":"Forest Green Rovers"},null,"v",null,{"$f":"VLOOKUP(Data!$A75,Data!$E$2:$F$81,2,FALSE)","v":"Southport"}]
[{"$f":"VLOOKUP(Data!$A36,Data!$E$2:$F$81,2,FALSE)","v":"Plymouth"},null,"v",null,{"$f":"VLOOKUP(Data!$A76,Data!$E$2:$F$81,2,FALSE)","v":"Port Vale"}]
[{"$f":"VLOOKUP(Data!$A37,Data!$E$2:$F$81,2,FALSE)","v":"Sheffield Wednesday"},null,"v",null,{"$f":"VLOOKUP(Data!$A77,Data!$E$2:$F$81,2,FALSE)","v":"Hythe Town"}]
[{"$f":"VLOOKUP(Data!$A38,Data!$E$2:$F$81,2,FALSE)","v":"Carlisle"},null,"v",null,{"$f":"VLOOKUP(Data!$A78,Data!$E$2:$F$81,2,FALSE)","v":"Dagenham and Redbridge"}]
[{"$f":"VLOOKUP(Data!$A39,Data!$E$2:$F$81,2,FALSE)","v":"Barnet"},null,"v",null,{"$f":"VLOOKUP(Data!$A79,Data!$E$2:$F$81,2,FALSE)","v":"Cambridge United"}]
[{"$f":"VLOOKUP(Data!$A40,Data!$E$2:$F$81,2,FALSE)","v":"Crawley Town"},null,"v",null,{"$f":"VLOOKUP(Data!$A80,Data!$E$2:$F$81,2,FALSE)","v":"York City"}]
[{"$f":"VLOOKUP(Data!$A41,Data!$E$2:$F$81,2,FALSE)","v":"Southampton"},null,"v",null,{"$f":"VLOOKUP(Data!$A81,Data!$E$2:$F$81,2,FALSE)","v":"Northampton"}]